Workbook

Sheet 01-工讀登錄【上傳資料用】
A1: 投保/聘僱單位 | E1: 工讀生資訊 | K1: 工讀資訊 | Q1: 學生薪資 | T1: 備註 | W1: 經費入帳情況 | Z1: 連結google表單 上傳資料
A2: 必填 投保/聘僱單位 | B2: 必填 投保單位承辦人 | C2: 經費來源(其他：填寫計畫名稱) | D2: 必填 計畫代碼(學校經費請填T109001 | E2: 必填 學號(校外人士請填身分證字號) | F2: 必填 姓名 | G2: 生日 (校外人士必填) | H2: 身分證字號 /居留證號碼 | I2: 工作職稱(教學助理、研究助理、工讀生)必填 | J2: 身分別[學生身分別] 一般生、外籍生、原住民、身心障礙生、外籍配偶、 大陸配偶 必填 | K2: 必填 工讀日期 | L2: (函數)星期 | M2: 工作內容 | N2: 必填 工作時數(時/每日) | O2: 工作時段1 | P2: 工作時段2 | Q2: (函數) 每日薪資(時薪160) | R2: (非月保免填) 是否月保 | S2: (非月保免填) 月保 薪資 | T2: 備註 (總時數) | U2: (函數) 投保月份 | V2: 督導人核章 | W2: 必填 計畫經費是否入帳 (是or否) | X2: 必填 計畫經費入帳日期或至出納預繳保費日期
A3: 學務處 | B3: 劉** | C3: 學校經費 | D3: Ｔ109001 | E3: 100000000 | F3: test | I3: 工讀生 | J3: 一般生 | K3: 1100107 | L3: =IF(E3="","",VLOOKUP(K3,日曆!$A$2:$E$1300,5,0)) -> 四 | N3: 4 | O3: 1200-1300 | P3: 1400-2100 | Q3: =IF(E3="","",IF(R3="",N3*160,"")) -> 640 | U3: =IF(E3="","",LEFT(K3,3)&"年"&RIGHT(LEFT(K3,5),2)&"月") -> 110年01月 | V3: =""
L4: =IF(E4="","",VLOOKUP(K4,日曆!$A$2:$E$1300,5,0)) | Q4: =IF(E4="","",IF(R4="",N4*160,"")) | U4: =IF(E4="","",LEFT(K4,3)&"年"&RIGHT(LEFT(K4,5),2)&"月") | V4: ="" | Z4: 查詢應付勞保勞退金額試算
L5: =IF(E5="","",VLOOKUP(K5,日曆!$A$2:$E$1300,5,0)) | Q5: =IF(E5="","",IF(R5="",N5*160,"")) | U5: =IF(E5="","",LEFT(K5,3)&"年"&RIGHT(LEFT(K5,5),2)&"月") | V5: =""
L6: =IF(E6="","",VLOOKUP(K6,日曆!$A$2:$E$1300,5,0)) | Q6: =IF(E6="","",IF(R6="",N6*160,"")) | U6: =IF(E6="","",LEFT(K6,3)&"年"&RIGHT(LEFT(K6,5),2)&"月") | V6: =""
L7: =IF(E7="","",VLOOKUP(K7,日曆!$A$2:$E$1300,5,0)) | Q7: =IF(E7="","",IF(R7="",N7*160,"")) | U7: =IF(E7="","",LEFT(K7,3)&"年"&RIGHT(LEFT(K7,5),2)&"月") | V7: ="" | Z7: 【九月份】
L8: =IF(E8="","",VLOOKUP(K8,日曆!$A$2:$E$1300,5,0)) | Q8: =IF(E8="","",IF(R8="",N8*160,"")) | U8: =IF(E8="","",LEFT(K8,3)&"年"&RIGHT(LEFT(K8,5),2)&"月") | V8: ="" | Z8: 【十月份】
L9: =IF(E9="","",VLOOKUP(K9,日曆!$A$2:$E$1300,5,0)) | Q9: =IF(E9="","",IF(R9="",N9*160,"")) | U9: =IF(E9="","",LEFT(K9,3)&"年"&RIGHT(LEFT(K9,5),2)&"月") | V9: ="" | Z9: 【十一月份】
L10: =IF(E10="","",VLOOKUP(K10,日曆!$A$2:$E$1300,5,0)) | Q10: =IF(E10="","",IF(R10="",N10*160,"")) | U10: =IF(E10="","",LEFT(K10,3)&"年"&RIGHT(LEFT(K10,5),2)&"月") | V10: ="" | Z10: 【十二月份】
L11: =IF(E11="","",VLOOKUP(K11,日曆!$A$2:$E$1300,5,0)) | Q11: =IF(E11="","",IF(R11="",N11*160,"")) | U11: =IF(E11="","",LEFT(K11,3)&"年"&RIGHT(LEFT(K11,5),2)&"月") | V11: =""
L12: =IF(E12="","",VLOOKUP(K12,日曆!$A$2:$E$1300,5,0)) | Q12: =IF(E12="","",IF(R12="",N12*160,"")) | U12: =IF(E12="","",LEFT(K12,3)&"年"&RIGHT(LEFT(K12,5),2)&"月") | V12: =""
L13: =IF(E13="","",VLOOKUP(K13,日曆!$A$2:$E$1300,5,0)) | Q13: =IF(E13="","",IF(R13="",N13*160,"")) | U13: =IF(E13="","",LEFT(K13,3)&"年"&RIGHT(LEFT(K13,5),2)&"月") | V13: =""
L14: =IF(E14="","",VLOOKUP(K14,日曆!$A$2:$E$1300,5,0)) | Q14: =IF(E14="","",IF(R14="",N14*160,"")) | U14: =IF(E14="","",LEFT(K14,3)&"年"&RIGHT(LEFT(K14,5),2)&"月") | V14: =""
L15: =IF(E15="","",VLOOKUP(K15,日曆!$A$2:$E$1300,5,0)) | Q15: =IF(E15="","",IF(R15="",N15*160,"")) | U15: =IF(E15="","",LEFT(K15,3)&"年"&RIGHT(LEFT(K15,5),2)&"月") | V15: =""
L16: =IF(E16="","",VLOOKUP(K16,日曆!$A$2:$E$1300,5,0)) | Q16: =IF(E16="","",IF(R16="",N16*160,"")) | U16: =IF(E16="","",LEFT(K16,3)&"年"&RIGHT(LEFT(K16,5),2)&"月") | V16: =""
L17: =IF(E17="","",VLOOKUP(K17,日曆!$A$2:$E$1300,5,0)) | Q17: =IF(E17="","",IF(R17="",N17*160,"")) | U17: =IF(E17="","",LEFT(K17,3)&"年"&RIGHT(LEFT(K17,5),2)&"月") | V17: =""
L18: =IF(E18="","",VLOOKUP(K18,日曆!$A$2:$E$1300,5,0)) | Q18: =IF(E18="","",IF(R18="",N18*160,"")) | U18: =IF(E18="","",LEFT(K18,3)&"年"&RIGHT(LEFT(K18,5),2)&"月") | V18: =""
L19: =IF(E19="","",VLOOKUP(K19,日曆!$A$2:$E$1300,5,0)) | Q19: =IF(E19="","",IF(R19="",N19*160,"")) | U19: =IF(E19="","",LEFT(K19,3)&"年"&RIGHT(LEFT(K19,5),2)&"月") | V19: =""
L20: =IF(E20="","",VLOOKUP(K20,日曆!$A$2:$E$1300,5,0)) | Q20: =IF(E20="","",IF(R20="",N20*160,"")) | U20: =IF(E20="","",LEFT(K20,3)&"年"&RIGHT(LEFT(K20,5),2)&"月") | V20: =""
L21: =IF(E21="","",VLOOKUP(K21,日曆!$A$2:$E$1300,5,0)) | Q21: =IF(E21="","",IF(R21="",N21*160,"")) | U21: =IF(E21="","",LEFT(K21,3)&"年"&RIGHT(LEFT(K21,5),2)&"月") | V21: =""
L22: =IF(E22="","",VLOOKUP(K22,日曆!$A$2:$E$1300,5,0)) | Q22: =IF(E22="","",IF(R22="",N22*160,"")) | U22: =IF(E22="","",LEFT(K22,3)&"年"&RIGHT(LEFT(K22,5),2)&"月") | V22: =""
... L502: =IF(E502="","",VLOOKUP(K502,日曆!$A$2:$E$1300,5,0)) | Q502: =IF(E502="","",IF(R502="",N502*160,"")) | U502: =IF(E502="","",LEFT(K502,3)&"年"&RIGHT(LEFT(K502,5),2)&"月") | V502: =""

Sheet 試算【查詢-個人版】
A1: 10804 | B1: 查詢(輸入學號)： | E1: 100000000 | G1: 身份證字號 | M1: ☆★重整資料★☆ 開啟excel【02-投保資料】 | S1: 下載更新【基本資料】
A2: 身分證字號 | B2: 姓名 | C2: =VLOOKUP(A3,'[1]03-工讀時數表'!$A$5:$B300,2,0) -> #N/A | M2: 註：工讀登錄後，需重整資料才能進 行查詢。 | S2: 註：若重整資料後，仍無法出現學生資料， 請下載更新檔，覆蓋舊檔。 或自建基本資料檔名為【99-基本資料.xlsx】
A3: =IF(E1="",$H$1,VLOOKUP(E1,'[2]107學年'!$A$2:$G$2998,2,0)) -> D123456789
A5: 勞保負擔：全月平均法
A6: 總時數 | B6: 總天數 | C6: 時/日 | D6: 投保級數 | E6: 普通事故保險費 | F6: 就業保險費 | G6: 勞保個人負擔 | H6: 普通事故保險費 | I6: 就業保險費 | J6: 勞保小計 | K6: 職災 | L6: 工資墊償金 | M6: 勞保單位負擔 | N6: 健保個人 負擔 | O6: 健保業主 負擔 | P6: 勞退費 | Q6: 雇主負擔 勞退合計 | R6: 身分類別 | S6: 投保薪資 | T6: 實際工資 (勞保、勞退用)
A7: =VLOOKUP(A3,'[1]03-工讀時數表'!$A$6:$AJ$1000,35,0) -> #N/A | B7: =VLOOKUP(A3,'[1]04-工讀日數'!$A$6:$AI$1000,35,0) -> #N/A | C7: =ROUNDUP(A7/B7,0) -> #N/A | D7: =IF(RIGHT(LEFT(T7,2),1)="-",T7, IF( AND(T7>='[3]實際薪資&月投保薪資級距表'!$D$4,T7<='[3]實際薪資&月投保薪資級距表'!$E$4),'[3]實際薪資&月投保薪資級距表'!$A$4, IF(AND(T7>='[3]實際薪資&月投保薪資級距表'!$D$5,T7<='[3]實際薪資&月投保薪資級距表'!$E$5),'[3]實際薪資&月投保薪資級距表'!$A$5, IF(AND(T7>='[3]實際薪資&月投保薪資級距表'!$D$6,T7<='[3]實際薪資&月投保薪資級距表'!$E$6),'[3]實際薪資&月投保薪資級距表'!$A$6, IF(AND(T7>='[3]實際薪資&月投保薪資級距表'!$D$7,T7<='[3]實際薪資&月投保薪資級距表'!$E$7),'[3]實際薪資&月投保薪資級距表'!$A$7, IF(AND(T7>='[3]實際薪資&月投保薪資級距表'!$D$8,T7<='[3]實際薪資&月投保薪資級距表'!$E$8),'[3]實際薪資&月投保薪資級距表'!$A$8, IF(AND(T7>='[3]實際薪資&月投保薪資級距表'!$D$9,T7<='[3]實際薪資&月投保薪資級距表'!$E$9),'[3]實際薪資&月投保薪資級距表'!$A$9, IF(AND(T7>='[3]實際薪資&月投保薪資級距表'!$D$10,T7<='[3]實際薪資&月投保薪資級距表'!$E$10),'[3]實際薪資&月投保薪資級距表'!$A$10, IF(AND(T7>='[3]實際薪資&月投保薪資級距表'!$D$11,T7<='[3]實際薪資&月投保薪資級距表'!$E$11),'[3]實際薪資&月投保薪資級距表'!$A$11, IF(AND(T7>='[3]實際薪資&月投保薪資級距表'!$D$12,T7<='[3]實際薪資&月投保薪資級距表'!$E$12),'[3]實際薪資&月投保薪資級距表'!$A$12, IF(AND(T7>='[3]實際薪資&月投保薪資級距表'!$D$13,T7<='[3]實際薪資&月投保薪資級距表'!$E$13),'[3]實際薪資&月投保薪資級距表'!$A$13, IF(AND(T7>='[3]實際薪資&月投保薪資級距表'!$D$14,T7<='[3]實際薪資&月投保薪資級距表'!$E$14),'[3]實際薪資&月投保薪資級距表'!$A$14, IF(AND(T7>='[3]實際薪資&月投保薪資級距表'!$D$15,T7<='[3]實際薪資&月投保薪資級距表'!$E$15),'[3]實際薪資&月投保薪資級距表'!$A$15, IF(AND(T7>='[3]實際薪資&月投保薪資級距表'!$D$16,T7<='[3]實際薪資&月投保薪資級距表'!$E$16),'[3]實際薪資&月投保薪資級距表'!$A$16, IF(AND(T7>='[3]實際薪資&月投保薪資級距表'!$D$17,T7<='[3]實際薪資&月投保薪資級距表'!$E$17),'[3]實際薪資&月投保薪資級距表'!$A$17, IF(AND(T7>='[3]實際薪資&月投保薪資級距表'!$D$18,T7<='[3]實際薪資&月投保薪資級距表'!$E$18),'[3]實際薪資&月投保薪資級距表'!$A$18, IF(AND(T7>='[3]實際薪資&月投保薪資級距表'!$D$19,T7<='[3]實際薪資&月投保薪資級距表'!$E$19),'[3]實際薪資&月投保薪資級距表'!$A$19, IF(AND(T7>='[3]實際薪資&月投保薪資級距表'!$D$20,T7<='[3]實際薪資&月投保薪資級距表'!$E$20),'[3]實際薪資&月投保薪資級距表'!$A$20, IF(AND(T7>='[3]實際薪資&月投保薪資級距表'!$D$21,T7<='[3]實際薪資&月投保薪資級距表'!$E$21),'[3]實際薪資&月投保薪資級距表'!$A$21, IF(AND(T7>='[3]實際薪資&月投保薪資級距表'!$D$22,T7<='[3]實際薪資&月投保薪資級距表'!$E$22),'[3]實際薪資&月投保薪資級距表'!$A$22, IF(AND(T7>='[3]實際薪資&月投保薪資級距表'!$D$23,T7<='[3]實際薪資&月投保薪資級距表'!$E$23),'[3]實際薪資&月投保薪資級距表'!$A$23, IF(AND(T7>='[3]實際薪資&月投保薪資級距表'!$D$24,T7<='[3]實際薪資&月投保薪資級距表'!$E$24),'[3]實際薪資&月投保薪資級距表'!$A$24, IF(AND(T7>='[3]實際薪資&月投保薪資級距表'!$D$25,T7<='[3]實際薪資&月投保薪資級距表'!$E$25),'[3]實際薪資&月投保薪資級距表'!$A$25, IF(AND(T7>='[3]實際薪資&月投保薪資級距表'!$D$26,T7<='[3]實際薪資&月投保薪資級距表'!$E$26),'[3]實際薪資&月投保薪資級距表'!$A$26, IF(AND(T7>='[3]實際薪資&月投保薪資級距表'!$D$27,T7<='[3]實際薪資&月投保薪資級距表'!$E$27),'[3]實際薪資&月投保薪資級距表'!$A$27, IF(AND(T7>='[3]實際薪資&月投保薪資級距表'!$D$28,T7<='[3]實際薪資&月投保薪資級距表'!$E$28),'[3]實際薪資&月投保薪資級距表'!$A$28, IF(AND(T7>='[3]實際薪資&月投保薪資級距表'!$D$29,T7<='[3]實際薪資&月投保薪資級距表'!$E$29),'[3]實際薪資&月投保薪資級距表'!$A$29, IF(AND(T7>='[3]實際薪資&月投保薪資級距表'!$D$30,T7<='[3]實際薪資&月投保薪資級距表'!$E$30),'[3]實際薪資&月投保薪資級距表'!$A$30, IF(AND(T7>='[3]實際薪資&月投保薪資級距表'!$D$31,T7<='[3]實際薪資&月投保薪資級距表'!$E$31),'[3]實際薪資&月投保薪資級距表'!$A$31, IF(AND(T7>='[3]實際薪資&月投保薪資級距表'!$D$32,T7<='[3]實際薪資&月投保薪資級距表'!$E$32),'[3]實際薪資&月投保薪資級距表'!$A$32, IF(AND(T7>='[3]實際薪資&月投保薪資級距表'!$D$33,T7<='[3]實際薪資&月投保薪資級距表'!$E$33),'[3]實際薪資&月投保薪資級距表'!$A$33, IF(AND(T7>='[3]實際薪資&月投保薪資級距表'!$D$34,T7<='[3]實際薪資&月投保薪資級距表'!$E$34),'[3]實際薪資&月投保薪資級距表'!$A$34, IF(AND(T7>='[3]實際薪資&月投保薪資級距表'!$D$35,T7<='[3]實際薪資&月投保薪資級距表'!$E$36),'[3]實際薪資&月投保薪資級距表'!$A$356, IF(AND(T7>='[3]實際薪資&月投保薪資級距表'!$D$36,T7<='[3]實際薪資&月投保薪資級距表'!$E$36,$A$21),T7)))))))))))))))))))))))))))))))))) -> #N/A | E7: =ROUNDUP(IF(OR($B7>=30,VLOOKUP($A$3,'[1]05-連續工讀累計'!$A$6:$AK$150,37,0)="月保"),VLOOKUP($D7,'[3]實際薪資&月投保薪資級距表'!$A$4:$S$69,9,0),VLOOKUP($D7,[3]部分工時薪資級距!$A$4:$N$243,3,0))*IF(OR($B7>=30,VLOOKUP($A$3,'[1]05-連續工讀累計'!$A$6:$AK$150,37,0)="月保"),ROUNDUP((R7*IF(B7>30,"30",B7)/30),0),R7),0) -> #N/A | F7: =ROUNDUP(IF(OR($B7>=30,VLOOKUP($A$3,'[1]05-連續工讀累計'!$A$6:$AK$150,37,0)="月保"),VLOOKUP($D7,'[3]實際薪資&月投保薪資級距表'!$A$4:$S$69,10,0),VLOOKUP($D7,[3]部分工時薪資級距!$A$4:$N$243,4,0))*IF(VLOOKUP(A3,'[2]107學年'!$B$2:$G$2999,6,0)="外籍生","0",IF(OR($B7>=30,VLOOKUP($A$3,'[1]05-連續工讀累計'!$A$6:$AK$150,37,0)="月保"),ROUNDUP((R7*IF(B7>30,"30",B7)/30),0),R7)),0) -> #N/A | G7: =ROUNDUP(IF(OR($B7>=30,VLOOKUP($A$3,'[1]05-連續工讀累計'!$A$6:$AK$150,37,0)="月保"),VLOOKUP($D7,'[3]實際薪資&月投保薪資級距表'!$A$4:$S$69,11,0),VLOOKUP($D7,[3]部分工時薪資級距!$A$4:$N$243,5,0))*IF(OR($B7>=30,VLOOKUP($A$3,'[1]05-連續工讀累計'!$A$6:$AK$150,37,0)="月保"),ROUNDUP((R7*IF(B7>30,"30",B7)/30),0),R7),0) -> #N/A | H7: =ROUNDUP(IF(OR($B7>=30,VLOOKUP($A$3,'[1]05-連續工讀累計'!$A$6:$AK$150,37,0)="月保"),VLOOKUP($D7,'[3]實際薪資&月投保薪資級距表'!$A$4:$S$69,12,0),VLOOKUP($D7,[3]部分工時薪資級距!$A$4:$N$243,6,0))*IF(OR($B7>=30,VLOOKUP($A$3,'[1]05-連續工讀累計'!$A$6:$AK$150,37,0)="月保"),ROUNDUP((R7*IF(B7>30,"30",B7)/30),0),1),0) -> #N/A | I7: =ROUNDUP(IF(OR($B7>=30,VLOOKUP($A$3,'[1]05-連續工讀累計'!$A$6:$AK$150,37,0)="月保"),VLOOKUP($D7,'[3]實際薪資&月投保薪資級距表'!$A$4:$S$69,13,0),VLOOKUP($D7,[3]部分工時薪資級距!$A$4:$N$243,7,0))*IF(VLOOKUP(A3,'[2]107學年'!$B$2:$G$2999,6,0)="外籍生","0","1")*IF(OR($B7>=30,VLOOKUP($A$3,'[1]05-連續工讀累計'!$A$6:$AK$150,37,0)="月保"),ROUNDUP((R7*IF(B7>30,"30",B7)/30),0),1),0) -> #N/A | J7: =H7+I7 -> #N/A | K7: =ROUNDUP(IF(OR($B7>=30,VLOOKUP($A$3,'[1]05-連續工讀累計'!$A$6:$AK$150,37,0)="月保"),VLOOKUP($D7,'[3]實際薪資&月投保薪資級距表'!$A$4:$S$69,14,0),VLOOKUP($D7,[3]部分工時薪資級距!$A$4:$N$243,9,0))*IF(OR($B7>=30,VLOOKUP($A$3,'[1]05-連續工讀累計'!$A$6:$AK$150,37,0)="月保"),ROUNDUP((R7*IF(B7>30,"30",B7)/30),0),1),0) -> #N/A | L7: =ROUNDUP(IF(OR($B7>=30,VLOOKUP($A$3,'[1]05-連續工讀累計'!$A$6:$AK$150,37,0)="月保"),VLOOKUP($D7,'[3]實際薪資&月投保薪資級距表'!$A$4:$S$69,15,0),VLOOKUP($D7,[3]部分工時薪資級距!$A$4:$N$243,10,0))*IF(OR($B7>=30,VLOOKUP($A$3,'[1]05-連續工讀累計'!$A$6:$AK$150,37,0)="月保"),ROUNDUP((R7*IF(B7>30,"30",B7)/30),0),1),0) -> #N/A | M7: =J7+K7+L7 -> #N/A | N7: =ROUNDUP(IF(OR($B7>=30,VLOOKUP($A$3,'[1]05-連續工讀累計'!$A$6:$AK$150,37,0)="月保"),VLOOKUP($D7,'[3]實際薪資&月投保薪資級距表'!$A$4:$S$69,17,0),"0")*IF(LEFT(VLOOKUP(A3,'[2]107學年'!$B$2:$G$3999,6,0),1)="外","0","1")*IF(OR($B7>=30,VLOOKUP($A$3,'[1]05-連續工讀累計'!$A$6:$AK$150,37,0)="月保"),ROUNDUP((R7*IF(B7>30,"30",B7)/30),0),1),0) -> #N/A | O7: =ROUNDUP(IF(OR($B7>=30,VLOOKUP($A$3,'[1]05-連續工讀累計'!$A$6:$AK$150,37,0)="月保"),VLOOKUP($D7,'[3]實際薪資&月投保薪資級距表'!$A$4:$S$69,18,0),"0")*IF(LEFT(VLOOKUP(A3,'[2]107學年'!$B$2:$G$3999,6,0),1)="外","0","1")*IF(OR($B7>=30,VLOOKUP($A$3,'[1]05-連續工讀累計'!$A$6:$AK$150,37,0)="月保"),ROUNDUP((R7*IF(B7>30,"30",B7)/30),0),1),0) -> #N/A | P7: =ROUNDUP(IF(OR($B7>=30,VLOOKUP($A$3,'[1]05-連續工讀累計'!$A$6:$AK$150,37,0)="月保"),VLOOKUP($D7,'[3]實際薪資&月投保薪資級距表'!$A$4:$S$69,19,0),VLOOKUP($D7,[3]部分工時薪資級距!$A$4:$N$243,12,0))*IF(OR($B7>=30,VLOOKUP($A$3,'[1]05-連續工讀累計'!$A$6:$AK$150,37,0)="月保"),ROUNDUP((R7*IF(B7>30,"30",B7)/30),0),1),0)*IF(VLOOKUP(A3,'[2]107學年'!$B$2:$G$2999,6,0)="外籍生","0",1) -> #N/A | Q7: =M7+P7 -> #N/A | R7: =IF(LEFT(VLOOKUP(A3,'[2]107學年'!$B$2:$G$3999,6,0),1)="重","0",IF(LEFT(VLOOKUP(A3,'[2]107學年'!$B$2:$G$3999,6,0),1)="中","0.5",IF(LEFT(VLOOKUP(A3,'[2]107學年'!$B$2:$G$3999,6,0),1)="輕","0.75",1))) -> 1 | S7: =IF(RIGHT(LEFT(T7,2),1)="-",VLOOKUP(T7,[3]部分工時薪資級距!$A$4:$N$243,14,0), IF( AND(T7>='[3]實際薪資&月投保薪資級距表'!$D$4,T7<='[3]實際薪資&月投保薪資級距表'!$E$4),'[3]實際薪資&月投保薪資級距表'!$E$4, IF(AND(T7>='[3]實際薪資&月投保薪資級距表'!$D$5,T7<='[3]實際薪資&月投保薪資級距表'!$E$5),'[3]實際薪資&月投保薪資級距表'!$E$5, IF(AND(T7>='[3]實際薪資&月投保薪資級距表'!$D$6,T7<='[3]實際薪資&月投保薪資級距表'!$E$6),'[3]實際薪資&月投保薪資級距表'!$E$6, IF(AND(T7>='[3]實際薪資&月投保薪資級距表'!$D$7,T7<='[3]實際薪資&月投保薪資級距表'!$E$7),'[3]實際薪資&月投保薪資級距表'!$E$7, IF(AND(T7>='[3]實際薪資&月投保薪資級距表'!$D$8,T7<='[3]實際薪資&月投保薪資級距表'!$E$8),'[3]實際薪資&月投保薪資級距表'!$E$8, IF(AND(T7>='[3]實際薪資&月投保薪資級距表'!$D$9,T7<='[3]實際薪資&月投保薪資級距表'!$E$9),'[3]實際薪資&月投保薪資級距表'!$E$9, IF(AND(T7>='[3]實際薪資&月投保薪資級距表'!$D$10,T7<='[3]實際薪資&月投保薪資級距表'!$E$10),'[3]實際薪資&月投保薪資級距表'!$E$10, IF(AND(T7>='[3]實際薪資&月投保薪資級距表'!$D$11,T7<='[3]實際薪資&月投保薪資級距表'!$E$11),'[3]實際薪資&月投保薪資級距表'!$E$11, IF(AND(T7>='[3]實際薪資&月投保薪資級距表'!$D$12,T7<='[3]實際薪資&月投保薪資級距表'!$E$12),'[3]實際薪資&月投保薪資級距表'!$E$12, IF(AND(T7>='[3]實際薪資&月投保薪資級距表'!$D$13,T7<='[3]實際薪資&月投保薪資級距表'!$E$13),'[3]實際薪資&月投保薪資級距表'!$E$13, IF(AND(T7>='[3]實際薪資&月投保薪資級距表'!$D$14,T7<='[3]實際薪資&月投保薪資級距表'!$E$14),'[3]實際薪資&月投保薪資級距表'!$E$14, IF(AND(T7>='[3]實際薪資&月投保薪資級距表'!$D$15,T7<='[3]實際薪資&月投保薪資級距表'!$E$15),'[3]實際薪資&月投保薪資級距表'!$E$15, IF(AND(T7>='[3]實際薪資&月投保薪資級距表'!$D$16,T7<='[3]實際薪資&月投保薪資級距表'!$E$16),'[3]實際薪資&月投保薪資級距表'!$E$16, IF(AND(T7>='[3]實際薪資&月投保薪資級距表'!$D$17,T7<='[3]實際薪資&月投保薪資級距表'!$E$17),'[3]實際薪資&月投保薪資級距表'!$E$17, IF(AND(T7>='[3]實際薪資&月投保薪資級距表'!$D$18,T7<='[3]實際薪資&月投保薪資級距表'!$E$18),'[3]實際薪資&月投保薪資級距表'!$E$18, IF(AND(T7>='[3]實際薪資&月投保薪資級距表'!$D$19,T7<='[3]實際薪資&月投保薪資級距表'!$E$19),'[3]實際薪資&月投保薪資級距表'!$E$19, IF(AND(T7>='[3]實際薪資&月投保薪資級距表'!$D$20,T7<='[3]實際薪資&月投保薪資級距表'!$E$20),'[3]實際薪資&月投保薪資級距表'!$E$20, IF(AND(T7>='[3]實際薪資&月投保薪資級距表'!$D$21,T7<='[3]實際薪資&月投保薪資級距表'!$E$21),'[3]實際薪資&月投保薪資級距表'!$E$21, IF(AND(T7>='[3]實際薪資&月投保薪資級距表'!$D$22,T7<='[3]實際薪資&月投保薪資級距表'!$E$22),'[3]實際薪資&月投保薪資級距表'!$E$22, IF(AND(T7>='[3]實際薪資&月投保薪資級距表'!$D$23,T7<='[3]實際薪資&月投保薪資級距表'!$E$23),'[3]實際薪資&月投保薪資級距表'!$E$23, IF(AND(T7>='[3]實際薪資&月投保薪資級距表'!$D$24,T7<='[3]實際薪資&月投保薪資級距表'!$E$24),'[3]實際薪資&月投保薪資級距表'!$E$24, IF(AND(T7>='[3]實際薪資&月投保薪資級距表'!$D$25,T7<='[3]實際薪資&月投保薪資級距表'!$E$25),'[3]實際薪資&月投保薪資級距表'!$E$25, IF(AND(T7>='[3]實際薪資&月投保薪資級距表'!$D$26,T7<='[3]實際薪資&月投保薪資級距表'!$E$26),'[3]實際薪資&月投保薪資級距表'!$E$26, IF(AND(T7>='[3]實際薪資&月投保薪資級距表'!$D$27,T7<='[3]實際薪資&月投保薪資級距表'!$E$27),'[3]實際薪資&月投保薪資級距表'!$E$27, IF(AND(T7>='[3]實際薪資&月投保薪資級距表'!$D$28,T7<='[3]實際薪資&月投保薪資級距表'!$E$28),'[3]實際薪資&月投保薪資級距表'!$E$28, IF(AND(T7>='[3]實際薪資&月投保薪資級距表'!$D$29,T7<='[3]實際薪資&月投保薪資級距表'!$E$29),'[3]實際薪資&月投保薪資級距表'!$E$29, IF(AND(T7>='[3]實際薪資&月投保薪資級距表'!$D$30,T7<='[3]實際薪資&月投保薪資級距表'!$E$30),'[3]實際薪資&月投保薪資級距表'!$E$30, IF(AND(T7>='[3]實際薪資&月投保薪資級距表'!$D$31,T7<='[3]實際薪資&月投保薪資級距表'!$E$31),'[3]實際薪資&月投保薪資級距表'!$E$31, IF(AND(T7>='[3]實際薪資&月投保薪資級距表'!$D$32,T7<='[3]實際薪資&月投保薪資級距表'!$E$32),'[3]實際薪資&月投保薪資級距表'!$E$32, IF(AND(T7>='[3]實際薪資&月投保薪資級距表'!$D$33,T7<='[3]實際薪資&月投保薪資級距表'!$E$33),'[3]實際薪資&月投保薪資級距表'!$E$33, IF(AND(T7>='[3]實際薪資&月投保薪資級距表'!$D$34,T7<='[3]實際薪資&月投保薪資級距表'!$E$34),'[3]實際薪資&月投保薪資級距表'!$E$34, IF(AND(T7>='[3]實際薪資&月投保薪資級距表'!$D$35,T7<='[3]實際薪資&月投保薪資級距表'!$E$36),'[3]實際薪資&月投保薪資級距表'!$E$356, IF(AND(T7>='[3]實際薪資&月投保薪資級距表'!$D$36,T7<='[3]實際薪資&月投保薪資級距表'!$E$36,$E$21),T7)))))))))))))))))))))))))))))))))) -> #N/A | T7: =IF(A3="","",IF(OR(B7>=30,VLOOKUP(A3,'[1]05-連續工讀累計'!$A$6:$AK$300,37,0)="月保"),VLOOKUP(A3,'[1]09-領取薪資'!$A$2:$C$76,3,0),C7&"-"&IF(B7>=30,30,B7))) -> #N/A
G8: =K42 -> #N/A | M8: =P42 -> #N/A | P8: =Q42 -> #N/A
A9: 勞保負擔：日均法 | G9: 投保級距 | I9: 勞保勞退試算
A10: 投保日 | B10: 星期 | C10: 工讀時數 | D10: 工讀日 | E10: 連續工讀日數 | F10: =D10 -> 工讀日 | G10: 投保級距 | H10: 投保薪資 | I10: 普通事故保險費 | J10: 就業保險費 | K10: 勞保個人負擔 | L10: 普通事故保險費 | M10: 就業保險費 | N10: 職災 | O10: 工資墊償金 | P10: 勞保單位負擔 | Q10: 勞退費 | R10: 雇主負擔 勞退合計 | S10: 身分類別 | T10: 時日樞紐位置 | U10: 連續工讀時數
A11: 01 | B11: =IF(ISNA(VLOOKUP(VALUE($A$1&A11),[2]日曆!$A$2:$E$335,5,0)),"",VLOOKUP(VALUE($A$1&A11),[2]日曆!$A$2:$E$335,5,0)) -> 一 | C11: =IF(VLOOKUP($A$3,'[1]03-工讀時數表'!$A$6:$AG$1000,$T11,0)="0","",VLOOKUP($A$3,'[1]03-工讀時數表'!$A$6:$AG$1000,$T11,0)) -> #N/A | D11: =IF(VLOOKUP($A$3,'[1]04-工讀日數'!$A$6:$AG$1000,$T11,0)>1,1,VLOOKUP($A$3,'[1]04-工讀日數'!$A$6:$AG$1000,$T11,0)) -> #N/A | E11: =VLOOKUP($A$3,'[1]05-連續工讀累計'!$A$6:$AK$150,$T11,0) -> #N/A | F11: =IF((D11-D12)=1,"加退保",IF(D11=0,"","加保")) -> #N/A | G11: =IF(U11="","",ROUNDUP((U11/E11),0)&"-"&E11) -> #N/A | H11: =IF(E11="","",VLOOKUP(G11,[3]部分工時薪資級距!$A$4:$N$243,14,0)) -> #N/A | I11: =IF($G11="","",VLOOKUP($G11,[3]部分工時薪資級距!$A$4:$N$243,3,0)*S11) -> #N/A | J11: =IF($G11="","",VLOOKUP($G11,[3]部分工時薪資級距!$A$4:$N$243,4,0)*IF(VLOOKUP(A3,'[2]107學年'!$B$2:$G$3000,6,0)="外籍生","0",S11)) -> #N/A | K11: =IF($G11="","",ROUNDUP((VLOOKUP($G11,[3]部分工時薪資級距!$A$4:$N$243,5,0)*S11),0)) -> #N/A | L11: =IF($G11="","",VLOOKUP($G11,[3]部分工時薪資級距!$A$4:$N$243,6,0)) -> #N/A | M11: =IF($G11="","",VLOOKUP($G11,[3]部分工時薪資級距!$A$4:$N$243,7,0)*IF(VLOOKUP(A3,'[2]107學年'!$B$2:$G$3000,6,0)="外籍生","0",1)) -> #N/A | N11: =IF($G11="","",VLOOKUP($G11,[3]部分工時薪資級距!$A$4:$N$243,9,0)) -> #N/A | O11: =IF($G11="","",VLOOKUP($G11,[3]部分工時薪資級距!$A$4:$N$243,10,0)) -> #N/A | P11: =IF(AND(N11="",O11=""),"",SUM(L11:O11)) -> #N/A | Q11: =IF($G11="","",VLOOKUP($G11,[3]部分工時薪資級距!$A$4:$N$243,12,0)*IF(VLOOKUP(A3,'[2]107學年'!$B$2:$G$3000,6,0)="外籍生","0",1)) -> #N/A | R11: =IF(AND(P11="",Q11=""),"",P11+Q11) -> #N/A | S11: =IF(C11=0,"",IF(LEFT(VLOOKUP($A$3,'[2]107學年'!$B$2:$G$4000,6,0),1)="重","0",IF(LEFT(VLOOKUP($A$3,'[2]107學年'!$B$2:$G$4000,6,0),1)="中","0.5",IF(LEFT(VLOOKUP($A$3,'[2]107學年'!$B$2:$G$4000,6,0),1)="輕","0.75",1)))) -> #N/A | T11: 3 | U11: =IF(E11="","",SUM(C11:C$41,0)-SUM(C12:C$41)) -> #N/A
A12: 02 | B12: =IF(ISNA(VLOOKUP(VALUE($A$1&A12),[2]日曆!$A$2:$E$335,5,0)),"",VLOOKUP(VALUE($A$1&A12),[2]日曆!$A$2:$E$335,5,0)) -> 二 | C12: =VLOOKUP($A$3,'[1]03-工讀時數表'!$A$6:$AG$1000,$T12,0) -> #N/A | D12: =IF(VLOOKUP($A$3,'[1]04-工讀日數'!$A$6:$AG$1000,$T12,0)>1,1,VLOOKUP($A$3,'[1]04-工讀日數'!$A$6:$AG$1000,$T12,0)) -> #N/A | E12: =VLOOKUP($A$3,'[1]05-連續工讀累計'!$A$6:$AK$150,$T12,0) -> #N/A | F12: =IF(AND((D11-D12)=-1,(D12-D13)=1),"加退保",IF((D12-D13)=1,"退保",IF((D11-D12)=-1,"加保",""))) -> #N/A | G12: =IF(U12="","",ROUNDUP((U12/E12),0)&"-"&E12) -> #N/A | H12: =IF(E12="","",VLOOKUP(G12,[3]部分工時薪資級距!$A$4:$N$243,14,0)) -> #N/A | I12: =IF($G12="","",VLOOKUP($G12,[3]部分工時薪資級距!$A$4:$N$243,3,0)*S12) -> #N/A | J12: =IF($G12="","",VLOOKUP($G12,[3]部分工時薪資級距!$A$4:$N$243,4,0)*IF(VLOOKUP(A3,'[2]107學年'!$B$2:$G$3000,6,0)="外籍生","0",S12)) -> #N/A | K12: =IF($G12="","",ROUNDUP((VLOOKUP($G12,[3]部分工時薪資級距!$A$4:$N$243,5,0)*S12),0)) -> #N/A | L12: =IF($G12="","",VLOOKUP($G12,[3]部分工時薪資級距!$A$4:$N$243,6,0)) -> #N/A | M12: =IF($G12="","",VLOOKUP($G12,[3]部分工時薪資級距!$A$4:$N$243,7,0)*IF(VLOOKUP(A3,'[2]107學年'!$B$2:$G$3000,6,0)="外籍生","0",1)) -> #N/A | N12: =IF($G12="","",VLOOKUP($G12,[3]部分工時薪資級距!$A$4:$N$243,9,0)) -> #N/A | O12: =IF($G12="","",VLOOKUP($G12,[3]部分工時薪資級距!$A$4:$N$243,10,0)) -> #N/A | P12: =IF(AND(N12="",O12=""),"",SUM(L12:O12)) -> #N/A | Q12: =IF($G12="","",VLOOKUP($G12,[3]部分工時薪資級距!$A$4:$N$243,12,0)*IF(VLOOKUP(A3,'[2]107學年'!$B$2:$G$3000,6,0)="外籍生","0",1)) -> #N/A | R12: =IF(AND(P12="",Q12=""),"",P12+Q12) -> #N/A | S12: =IF(C12=0,"",IF(LEFT(VLOOKUP($A$3,'[2]107學年'!$B$2:$G$4000,6,0),1)="重","0",IF(LEFT(VLOOKUP($A$3,'[2]107學年'!$B$2:$G$4000,6,0),1)="中","0.5",IF(LEFT(VLOOKUP($A$3,'[2]107學年'!$B$2:$G$4000,6,0),1)="輕","0.75",1)))) -> #N/A | T12: 4 | U12: =IF(E12="","",SUM(C12:C$41,0)-SUM(U13:U$41)) -> #N/A
A13: 03 | B13: =IF(ISNA(VLOOKUP(VALUE($A$1&A13),[2]日曆!$A$2:$E$335,5,0)),"",VLOOKUP(VALUE($A$1&A13),[2]日曆!$A$2:$E$335,5,0)) -> 三 | C13: =VLOOKUP($A$3,'[1]03-工讀時數表'!$A$6:$AG$1000,$T13,0) -> #N/A | D13: =IF(VLOOKUP($A$3,'[1]04-工讀日數'!$A$6:$AG$1000,$T13,0)>1,1,VLOOKUP($A$3,'[1]04-工讀日數'!$A$6:$AG$1000,$T13,0)) -> #N/A | E13: =VLOOKUP($A$3,'[1]05-連續工讀累計'!$A$6:$AK$150,$T13,0) -> #N/A | F13: =IF(AND((D12-D13)=-1,(D13-D14)=1),"加退保",IF((D13-D14)=1,"退保",IF((D12-D13)=-1,"加保",""))) -> #N/A | G13: =IF(U13="","",ROUNDUP((U13/E13),0)&"-"&E13) -> #N/A | H13: =IF(E13="","",VLOOKUP(G13,[3]部分工時薪資級距!$A$4:$N$243,14,0)) -> #N/A | I13: =IF($G13="","",VLOOKUP($G13,[3]部分工時薪資級距!$A$4:$N$243,3,0)*S13) -> #N/A | J13: =IF($G13="","",VLOOKUP($G13,[3]部分工時薪資級距!$A$4:$N$243,4,0)*IF(VLOOKUP(A3,'[2]107學年'!$B$2:$G$3000,6,0)="外籍生","0",S13)) -> #N/A | K13: =IF($G13="","",ROUNDUP((VLOOKUP($G13,[3]部分工時薪資級距!$A$4:$N$243,5,0)*S13),0)) -> #N/A | L13: =IF($G13="","",VLOOKUP($G13,[3]部分工時薪資級距!$A$4:$N$243,6,0)) -> #N/A | M13: =IF($G13="","",VLOOKUP($G13,[3]部分工時薪資級距!$A$4:$N$243,7,0)*IF(VLOOKUP(A3,'[2]107學年'!$B$2:$G$3000,6,0)="外籍生","0",1)) -> #N/A | N13: =IF($G13="","",VLOOKUP($G13,[3]部分工時薪資級距!$A$4:$N$243,9,0)) -> #N/A | O13: =IF($G13="","",VLOOKUP($G13,[3]部分工時薪資級距!$A$4:$N$243,10,0)) -> #N/A | P13: =IF(AND(N13="",O13=""),"",SUM(L13:O13)) -> #N/A | Q13: =IF($G13="","",VLOOKUP($G13,[3]部分工時薪資級距!$A$4:$N$243,12,0)*IF(VLOOKUP(A3,'[2]107學年'!$B$2:$G$3000,6,0)="外籍生","0",1)) -> #N/A | R13: =IF(AND(P13="",Q13=""),"",P13+Q13) -> #N/A | S13: =IF(C13=0,"",IF(LEFT(VLOOKUP($A$3,'[2]107學年'!$B$2:$G$4000,6,0),1)="重","0",IF(LEFT(VLOOKUP($A$3,'[2]107學年'!$B$2:$G$4000,6,0),1)="中","0.5",IF(LEFT(VLOOKUP($A$3,'[2]107學年'!$B$2:$G$4000,6,0),1)="輕","0.75",1)))) -> #N/A | T13: 5 | U13: =IF(E13="","",SUM(C13:C$41,0)-SUM(U14:U$41)) -> #N/A
A14: 04 | B14: =IF(ISNA(VLOOKUP(VALUE($A$1&A14),[2]日曆!$A$2:$E$335,5,0)),"",VLOOKUP(VALUE($A$1&A14),[2]日曆!$A$2:$E$335,5,0)) -> 四 | C14: =VLOOKUP($A$3,'[1]03-工讀時數表'!$A$6:$AG$1000,$T14,0) -> #N/A | D14: =IF(VLOOKUP($A$3,'[1]04-工讀日數'!$A$6:$AG$1000,$T14,0)>1,1,VLOOKUP($A$3,'[1]04-工讀日數'!$A$6:$AG$1000,$T14,0)) -> #N/A | E14: =VLOOKUP($A$3,'[1]05-連續工讀累計'!$A$6:$AK$150,$T14,0) -> #N/A | F14: =IF(AND((D13-D14)=-1,(D14-D15)=1),"加退保",IF((D14-D15)=1,"退保",IF((D13-D14)=-1,"加保",""))) -> #N/A | G14: =IF(U14="","",ROUNDUP((U14/E14),0)&"-"&E14) -> #N/A | H14: =IF(E14="","",VLOOKUP(G14,[3]部分工時薪資級距!$A$4:$N$243,14,0)) -> #N/A | I14: =IF($G14="","",VLOOKUP($G14,[3]部分工時薪資級距!$A$4:$N$243,3,0)*S14) -> #N/A | J14: =IF($G14="","",VLOOKUP($G14,[3]部分工時薪資級距!$A$4:$N$243,4,0)*IF(VLOOKUP(A3,'[2]107學年'!$B$2:$G$3000,6,0)="外籍生","0",S14)) -> #N/A | K14: =IF($G14="","",ROUNDUP((VLOOKUP($G14,[3]部分工時薪資級距!$A$4:$N$243,5,0)*S14),0)) -> #N/A | L14: =IF($G14="","",VLOOKUP($G14,[3]部分工時薪資級距!$A$4:$N$243,6,0)) -> #N/A | M14: =IF($G14="","",VLOOKUP($G14,[3]部分工時薪資級距!$A$4:$N$243,7,0)*IF(VLOOKUP(A3,'[2]107學年'!$B$2:$G$3000,6,0)="外籍生","0",1)) -> #N/A | N14: =IF($G14="","",VLOOKUP($G14,[3]部分工時薪資級距!$A$4:$N$243,9,0)) -> #N/A | O14: =IF($G14="","",VLOOKUP($G14,[3]部分工時薪資級距!$A$4:$N$243,10,0)) -> #N/A | P14: =IF(AND(N14="",O14=""),"",SUM(L14:O14)) -> #N/A | Q14: =IF($G14="","",VLOOKUP($G14,[3]部分工時薪資級距!$A$4:$N$243,12,0)*IF(VLOOKUP(A3,'[2]107學年'!$B$2:$G$3000,6,0)="外籍生","0",1)) -> #N/A | R14: =IF(AND(P14="",Q14=""),"",P14+Q14) -> #N/A | S14: =IF(C14=0,"",IF(LEFT(VLOOKUP($A$3,'[2]107學年'!$B$2:$G$4000,6,0),1)="重","0",IF(LEFT(VLOOKUP($A$3,'[2]107學年'!$B$2:$G$4000,6,0),1)="中","0.5",IF(LEFT(VLOOKUP($A$3,'[2]107學年'!$B$2:$G$4000,6,0),1)="輕","0.75",1)))) -> #N/A | T14: 6 | U14: =IF(E14="","",SUM(C14:C$41,0)-SUM(U15:U$41)) -> #N/A
A15: 05 | B15: =IF(ISNA(VLOOKUP(VALUE($A$1&A15),[2]日曆!$A$2:$E$335,5,0)),"",VLOOKUP(VALUE($A$1&A15),[2]日曆!$A$2:$E$335,5,0)) -> 五 | C15: =VLOOKUP($A$3,'[1]03-工讀時數表'!$A$6:$AG$1000,$T15,0) -> #N/A | D15: =IF(VLOOKUP($A$3,'[1]04-工讀日數'!$A$6:$AG$1000,$T15,0)>1,1,VLOOKUP($A$3,'[1]04-工讀日數'!$A$6:$AG$1000,$T15,0)) -> #N/A | E15: =VLOOKUP($A$3,'[1]05-連續工讀累計'!$A$6:$AK$150,$T15,0) -> #N/A | F15: =IF(AND((D14-D15)=-1,(D15-D16)=1),"加退保",IF((D15-D16)=1,"退保",IF((D14-D15)=-1,"加保",""))) -> #N/A | G15: =IF(U15="","",ROUNDUP((U15/E15),0)&"-"&E15) -> #N/A | H15: =IF(E15="","",VLOOKUP(G15,[3]部分工時薪資級距!$A$4:$N$243,14,0)) -> #N/A | I15: =IF($G15="","",VLOOKUP($G15,[3]部分工時薪資級距!$A$4:$N$243,3,0)*S15) -> #N/A | J15: =IF($G15="","",VLOOKUP($G15,[3]部分工時薪資級距!$A$4:$N$243,4,0)*IF(VLOOKUP(A3,'[2]107學年'!$B$2:$G$3000,6,0)="外籍生","0",S15)) -> #N/A | K15: =IF($G15="","",ROUNDUP((VLOOKUP($G15,[3]部分工時薪資級距!$A$4:$N$243,5,0)*S15),0)) -> #N/A | L15: =IF($G15="","",VLOOKUP($G15,[3]部分工時薪資級距!$A$4:$N$243,6,0)) -> #N/A | M15: =IF($G15="","",VLOOKUP($G15,[3]部分工時薪資級距!$A$4:$N$243,7,0)*IF(VLOOKUP(A3,'[2]107學年'!$B$2:$G$3000,6,0)="外籍生","0",1)) -> #N/A | N15: =IF($G15="","",VLOOKUP($G15,[3]部分工時薪資級距!$A$4:$N$243,9,0)) -> #N/A | O15: =IF($G15="","",VLOOKUP($G15,[3]部分工時薪資級距!$A$4:$N$243,10,0)) -> #N/A | P15: =IF(AND(N15="",O15=""),"",SUM(L15:O15)) -> #N/A | Q15: =IF($G15="","",VLOOKUP($G15,[3]部分工時薪資級距!$A$4:$N$243,12,0)*IF(VLOOKUP(A3,'[2]107學年'!$B$2:$G$3000,6,0)="外籍生","0",1)) -> #N/A | R15: =IF(AND(P15="",Q15=""),"",P15+Q15) -> #N/A | S15: =IF(C15=0,"",IF(LEFT(VLOOKUP($A$3,'[2]107學年'!$B$2:$G$4000,6,0),1)="重","0",IF(LEFT(VLOOKUP($A$3,'[2]107學年'!$B$2:$G$4000,6,0),1)="中","0.5",IF(LEFT(VLOOKUP($A$3,'[2]107學年'!$B$2:$G$4000,6,0),1)="輕","0.75",1)))) -> #N/A | T15: 7 | U15: =IF(E15="","",SUM(C15:C$41,0)-SUM(U16:U$41)) -> #N/A
A16: 06 | B16: =IF(ISNA(VLOOKUP(VALUE($A$1&A16),[2]日曆!$A$2:$E$335,5,0)),"",VLOOKUP(VALUE($A$1&A16),[2]日曆!$A$2:$E$335,5,0)) -> 六 | C16: =VLOOKUP($A$3,'[1]03-工讀時數表'!$A$6:$AG$1000,$T16,0) -> #N/A | D16: =IF(VLOOKUP($A$3,'[1]04-工讀日數'!$A$6:$AG$1000,$T16,0)>1,1,VLOOKUP($A$3,'[1]04-工讀日數'!$A$6:$AG$1000,$T16,0)) -> #N/A | E16: =VLOOKUP($A$3,'[1]05-連續工讀累計'!$A$6:$AK$150,$T16,0) -> #N/A | F16: =IF(AND((D15-D16)=-1,(D16-D17)=1),"加退保",IF((D16-D17)=1,"退保",IF((D15-D16)=-1,"加保",""))) -> #N/A | G16: =IF(U16="","",ROUNDUP((U16/E16),0)&"-"&E16) -> #N/A | H16: =IF(E16="","",VLOOKUP(G16,[3]部分工時薪資級距!$A$4:$N$243,14,0)) -> #N/A | I16: =IF($G16="","",VLOOKUP($G16,[3]部分工時薪資級距!$A$4:$N$243,3,0)*S16) -> #N/A | J16: =IF($G16="","",VLOOKUP($G16,[3]部分工時薪資級距!$A$4:$N$243,4,0)*IF(VLOOKUP(A3,'[2]107學年'!$B$2:$G$3000,6,0)="外籍生","0",S16)) -> #N/A | K16: =IF($G16="","",ROUNDUP((VLOOKUP($G16,[3]部分工時薪資級距!$A$4:$N$243,5,0)*S16),0)) -> #N/A | L16: =IF($G16="","",VLOOKUP($G16,[3]部分工時薪資級距!$A$4:$N$243,6,0)) -> #N/A | M16: =IF($G16="","",VLOOKUP($G16,[3]部分工時薪資級距!$A$4:$N$243,7,0)*IF(VLOOKUP(A3,'[2]107學年'!$B$2:$G$3000,6,0)="外籍生","0",1)) -> #N/A | N16: =IF($G16="","",VLOOKUP($G16,[3]部分工時薪資級距!$A$4:$N$243,9,0)) -> #N/A | O16: =IF($G16="","",VLOOKUP($G16,[3]部分工時薪資級距!$A$4:$N$243,10,0)) -> #N/A | P16: =IF(AND(N16="",O16=""),"",SUM(L16:O16)) -> #N/A | Q16: =IF($G16="","",VLOOKUP($G16,[3]部分工時薪資級距!$A$4:$N$243,12,0)*IF(VLOOKUP(A3,'[2]107學年'!$B$2:$G$3000,6,0)="外籍生","0",1)) -> #N/A | R16: =IF(AND(P16="",Q16=""),"",P16+Q16) -> #N/A | S16: =IF(C16=0,"",IF(LEFT(VLOOKUP($A$3,'[2]107學年'!$B$2:$G$4000,6,0),1)="重","0",IF(LEFT(VLOOKUP($A$3,'[2]107學年'!$B$2:$G$4000,6,0),1)="中","0.5",IF(LEFT(VLOOKUP($A$3,'[2]107學年'!$B$2:$G$4000,6,0),1)="輕","0.75",1)))) -> #N/A | T16: 8 | U16: =IF(E16="","",SUM(C16:C$41,0)-SUM(U17:U$41)) -> #N/A
A17: 07 | B17: =IF(ISNA(VLOOKUP(VALUE($A$1&A17),[2]日曆!$A$2:$E$335,5,0)),"",VLOOKUP(VALUE($A$1&A17),[2]日曆!$A$2:$E$335,5,0)) -> 日 | C17: =VLOOKUP($A$3,'[1]03-工讀時數表'!$A$6:$AG$1000,$T17,0) -> #N/A | D17: =IF(VLOOKUP($A$3,'[1]04-工讀日數'!$A$6:$AG$1000,$T17,0)>1,1,VLOOKUP($A$3,'[1]04-工讀日數'!$A$6:$AG$1000,$T17,0)) -> #N/A | E17: =VLOOKUP($A$3,'[1]05-連續工讀累計'!$A$6:$AK$150,$T17,0) -> #N/A | F17: =IF(AND((D16-D17)=-1,(D17-D18)=1),"加退保",IF((D17-D18)=1,"退保",IF((D16-D17)=-1,"加保",""))) -> #N/A | G17: =IF(U17="","",ROUNDUP((U17/E17),0)&"-"&E17) -> #N/A | H17: =IF(E17="","",VLOOKUP(G17,[3]部分工時薪資級距!$A$4:$N$243,14,0)) -> #N/A | I17: =IF($G17="","",VLOOKUP($G17,[3]部分工時薪資級距!$A$4:$N$243,3,0)*S17) -> #N/A | J17: =IF($G17="","",VLOOKUP($G17,[3]部分工時薪資級距!$A$4:$N$243,4,0)*IF(VLOOKUP(A3,'[2]107學年'!$B$2:$G$3000,6,0)="外籍生","0",S17)) -> #N/A | K17: =IF($G17="","",ROUNDUP((VLOOKUP($G17,[3]部分工時薪資級距!$A$4:$N$243,5,0)*S17),0)) -> #N/A | L17: =IF($G17="","",VLOOKUP($G17,[3]部分工時薪資級距!$A$4:$N$243,6,0)) -> #N/A | M17: =IF($G17="","",VLOOKUP($G17,[3]部分工時薪資級距!$A$4:$N$243,7,0)*IF(VLOOKUP(A3,'[2]107學年'!$B$2:$G$3000,6,0)="外籍生","0",1)) -> #N/A | N17: =IF($G17="","",VLOOKUP($G17,[3]部分工時薪資級距!$A$4:$N$243,9,0)) -> #N/A | O17: =IF($G17="","",VLOOKUP($G17,[3]部分工時薪資級距!$A$4:$N$243,10,0)) -> #N/A | P17: =IF(AND(N17="",O17=""),"",SUM(L17:O17)) -> #N/A | Q17: =IF($G17="","",VLOOKUP($G17,[3]部分工時薪資級距!$A$4:$N$243,12,0)*IF(VLOOKUP(A3,'[2]107學年'!$B$2:$G$3000,6,0)="外籍生","0",1)) -> #N/A | R17: =IF(AND(P17="",Q17=""),"",P17+Q17) -> #N/A | S17: =IF(C17=0,"",IF(LEFT(VLOOKUP($A$3,'[2]107學年'!$B$2:$G$4000,6,0),1)="重","0",IF(LEFT(VLOOKUP($A$3,'[2]107學年'!$B$2:$G$4000,6,0),1)="中","0.5",IF(LEFT(VLOOKUP($A$3,'[2]107學年'!$B$2:$G$4000,6,0),1)="輕","0.75",1)))) -> #N/A | T17: 9 | U17: =IF(E17="","",SUM(C17:C$41,0)-SUM(U18:U$41)) -> #N/A
A18: 08 | B18: =IF(ISNA(VLOOKUP(VALUE($A$1&A18),[2]日曆!$A$2:$E$335,5,0)),"",VLOOKUP(VALUE($A$1&A18),[2]日曆!$A$2:$E$335,5,0)) -> 一 | C18: =VLOOKUP($A$3,'[1]03-工讀時數表'!$A$6:$AG$1000,$T18,0) -> #N/A | D18: =IF(VLOOKUP($A$3,'[1]04-工讀日數'!$A$6:$AG$1000,$T18,0)>1,1,VLOOKUP($A$3,'[1]04-工讀日數'!$A$6:$AG$1000,$T18,0)) -> #N/A | E18: =VLOOKUP($A$3,'[1]05-連續工讀累計'!$A$6:$AK$150,$T18,0) -> #N/A | F18: =IF(AND((D17-D18)=-1,(D18-D19)=1),"加退保",IF((D18-D19)=1,"退保",IF((D17-D18)=-1,"加保",""))) -> #N/A | G18: =IF(U18="","",ROUNDUP((U18/E18),0)&"-"&E18) -> #N/A | H18: =IF(E18="","",VLOOKUP(G18,[3]部分工時薪資級距!$A$4:$N$243,14,0)) -> #N/A | I18: =IF($G18="","",VLOOKUP($G18,[3]部分工時薪資級距!$A$4:$N$243,3,0)*S18) -> #N/A | J18: =IF($G18="","",VLOOKUP($G18,[3]部分工時薪資級距!$A$4:$N$243,4,0)*IF(VLOOKUP(A3,'[2]107學年'!$B$2:$G$3000,6,0)="外籍生","0",S18)) -> #N/A | K18: =IF($G18="","",ROUNDUP((VLOOKUP($G18,[3]部分工時薪資級距!$A$4:$N$243,5,0)*S18),0)) -> #N/A | L18: =IF($G18="","",VLOOKUP($G18,[3]部分工時薪資級距!$A$4:$N$243,6,0)) -> #N/A | M18: =IF($G18="","",VLOOKUP($G18,[3]部分工時薪資級距!$A$4:$N$243,7,0)*IF(VLOOKUP(A3,'[2]107學年'!$B$2:$G$3000,6,0)="外籍生","0",1)) -> #N/A | N18: =IF($G18="","",VLOOKUP($G18,[3]部分工時薪資級距!$A$4:$N$243,9,0)) -> #N/A | O18: =IF($G18="","",VLOOKUP($G18,[3]部分工時薪資級距!$A$4:$N$243,10,0)) -> #N/A | P18: =IF(AND(N18="",O18=""),"",SUM(L18:O18)) -> #N/A | Q18: =IF($G18="","",VLOOKUP($G18,[3]部分工時薪資級距!$A$4:$N$243,12,0)*IF(VLOOKUP(A3,'[2]107學年'!$B$2:$G$3000,6,0)="外籍生","0",1)) -> #N/A | R18: =IF(AND(P18="",Q18=""),"",P18+Q18) -> #N/A | S18: =IF(C18=0,"",IF(LEFT(VLOOKUP($A$3,'[2]107學年'!$B$2:$G$4000,6,0),1)="重","0",IF(LEFT(VLOOKUP($A$3,'[2]107學年'!$B$2:$G$4000,6,0),1)="中","0.5",IF(LEFT(VLOOKUP($A$3,'[2]107學年'!$B$2:$G$4000,6,0),1)="輕","0.75",1)))) -> #N/A | T18: 10 | U18: =IF(E18="","",SUM(C18:C$41,0)-SUM(U19:U$41)) -> #N/A
A19: 09 | B19: =IF(ISNA(VLOOKUP(VALUE($A$1&A19),[2]日曆!$A$2:$E$335,5,0)),"",VLOOKUP(VALUE($A$1&A19),[2]日曆!$A$2:$E$335,5,0)) -> 二 | C19: =VLOOKUP($A$3,'[1]03-工讀時數表'!$A$6:$AG$1000,$T19,0) -> #N/A | D19: =IF(VLOOKUP($A$3,'[1]04-工讀日數'!$A$6:$AG$1000,$T19,0)>1,1,VLOOKUP($A$3,'[1]04-工讀日數'!$A$6:$AG$1000,$T19,0)) -> #N/A | E19: =VLOOKUP($A$3,'[1]05-連續工讀累計'!$A$6:$AK$150,$T19,0) -> #N/A | F19: =IF(AND((D18-D19)=-1,(D19-D20)=1),"加退保",IF((D19-D20)=1,"退保",IF((D18-D19)=-1,"加保",""))) -> #N/A | G19: =IF(U19="","",ROUNDUP((U19/E19),0)&"-"&E19) -> #N/A | H19: =IF(E19="","",VLOOKUP(G19,[3]部分工時薪資級距!$A$4:$N$243,14,0)) -> #N/A | I19: =IF($G19="","",VLOOKUP($G19,[3]部分工時薪資級距!$A$4:$N$243,3,0)*S19) -> #N/A | J19: =IF($G19="","",VLOOKUP($G19,[3]部分工時薪資級距!$A$4:$N$243,4,0)*IF(VLOOKUP(A3,'[2]107學年'!$B$2:$G$3000,6,0)="外籍生","0",S19)) -> #N/A | K19: =IF($G19="","",ROUNDUP((VLOOKUP($G19,[3]部分工時薪資級距!$A$4:$N$243,5,0)*S19),0)) -> #N/A | L19: =IF($G19="","",VLOOKUP($G19,[3]部分工時薪資級距!$A$4:$N$243,6,0)) -> #N/A | M19: =IF($G19="","",VLOOKUP($G19,[3]部分工時薪資級距!$A$4:$N$243,7,0)*IF(VLOOKUP(A3,'[2]107學年'!$B$2:$G$3000,6,0)="外籍生","0",1)) -> #N/A | N19: =IF($G19="","",VLOOKUP($G19,[3]部分工時薪資級距!$A$4:$N$243,9,0)) -> #N/A | O19: =IF($G19="","",VLOOKUP($G19,[3]部分工時薪資級距!$A$4:$N$243,10,0)) -> #N/A | P19: =IF(AND(N19="",O19=""),"",SUM(L19:O19)) -> #N/A | Q19: =IF($G19="","",VLOOKUP($G19,[3]部分工時薪資級距!$A$4:$N$243,12,0)*IF(VLOOKUP(A3,'[2]107學年'!$B$2:$G$3000,6,0)="外籍生","0",1)) -> #N/A | R19: =IF(AND(P19="",Q19=""),"",P19+Q19) -> #N/A | S19: =IF(C19=0,"",IF(LEFT(VLOOKUP($A$3,'[2]107學年'!$B$2:$G$4000,6,0),1)="重","0",IF(LEFT(VLOOKUP($A$3,'[2]107學年'!$B$2:$G$4000,6,0),1)="中","0.5",IF(LEFT(VLOOKUP($A$3,'[2]107學年'!$B$2:$G$4000,6,0),1)="輕","0.75",1)))) -> #N/A | T19: 11 | U19: =IF(E19="","",SUM(C19:C$41,0)-SUM(U20:U$41)) -> #N/A
A20: 10 | B20: =IF(ISNA(VLOOKUP(VALUE($A$1&A20),[2]日曆!$A$2:$E$335,5,0)),"",VLOOKUP(VALUE($A$1&A20),[2]日曆!$A$2:$E$335,5,0)) -> 三 | C20: =VLOOKUP($A$3,'[1]03-工讀時數表'!$A$6:$AG$1000,$T20,0) -> #N/A | D20: =IF(VLOOKUP($A$3,'[1]04-工讀日數'!$A$6:$AG$1000,$T20,0)>1,1,VLOOKUP($A$3,'[1]04-工讀日數'!$A$6:$AG$1000,$T20,0)) -> #N/A | E20: =VLOOKUP($A$3,'[1]05-連續工讀累計'!$A$6:$AK$150,$T20,0) -> #N/A | F20: =IF(AND((D19-D20)=-1,(D20-D21)=1),"加退保",IF((D20-D21)=1,"退保",IF((D19-D20)=-1,"加保",""))) -> #N/A | G20: =IF(U20="","",ROUNDUP((U20/E20),0)&"-"&E20) -> #N/A | H20: =IF(E20="","",VLOOKUP(G20,[3]部分工時薪資級距!$A$4:$N$243,14,0)) -> #N/A | I20: =IF($G20="","",VLOOKUP($G20,[3]部分工時薪資級距!$A$4:$N$243,3,0)*S20) -> #N/A | J20: =IF($G20="","",VLOOKUP($G20,[3]部分工時薪資級距!$A$4:$N$243,4,0)*IF(VLOOKUP(A3,'[2]107學年'!$B$2:$G$3000,6,0)="外籍生","0",S20)) -> #N/A | K20: =IF($G20="","",ROUNDUP((VLOOKUP($G20,[3]部分工時薪資級距!$A$4:$N$243,5,0)*S20),0)) -> #N/A | L20: =IF($G20="","",VLOOKUP($G20,[3]部分工時薪資級距!$A$4:$N$243,6,0)) -> #N/A | M20: =IF($G20="","",VLOOKUP($G20,[3]部分工時薪資級距!$A$4:$N$243,7,0)*IF(VLOOKUP(A3,'[2]107學年'!$B$2:$G$3000,6,0)="外籍生","0",1)) -> #N/A | N20: =IF($G20="","",VLOOKUP($G20,[3]部分工時薪資級距!$A$4:$N$243,9,0)) -> #N/A | O20: =IF($G20="","",VLOOKUP($G20,[3]部分工時薪資級距!$A$4:$N$243,10,0)) -> #N/A | P20: =IF(AND(N20="",O20=""),"",SUM(L20:O20)) -> #N/A | Q20: =IF($G20="","",VLOOKUP($G20,[3]部分工時薪資級距!$A$4:$N$243,12,0)*IF(VLOOKUP(A3,'[2]107學年'!$B$2:$G$3000,6,0)="外籍生","0",1)) -> #N/A | R20: =IF(AND(P20="",Q20=""),"",P20+Q20) -> #N/A | S20: =IF(C20=0,"",IF(LEFT(VLOOKUP($A$3,'[2]107學年'!$B$2:$G$4000,6,0),1)="重","0",IF(LEFT(VLOOKUP($A$3,'[2]107學年'!$B$2:$G$4000,6,0),1)="中","0.5",IF(LEFT(VLOOKUP($A$3,'[2]107學年'!$B$2:$G$4000,6,0),1)="輕","0.75",1)))) -> #N/A | T20: 12 | U20: =IF(E20="","",SUM(C20:C$41,0)-SUM(U21:U$41)) -> #N/A
A21: 11 | B21: =IF(ISNA(VLOOKUP(VALUE($A$1&A21),[2]日曆!$A$2:$E$335,5,0)),"",VLOOKUP(VALUE($A$1&A21),[2]日曆!$A$2:$E$335,5,0)) -> 四 | C21: =VLOOKUP($A$3,'[1]03-工讀時數表'!$A$6:$AG$1000,$T21,0) -> #N/A | D21: =IF(VLOOKUP($A$3,'[1]04-工讀日數'!$A$6:$AG$1000,$T21,0)>1,1,VLOOKUP($A$3,'[1]04-工讀日數'!$A$6:$AG$1000,$T21,0)) -> #N/A | E21: =VLOOKUP($A$3,'[1]05-連續工讀累計'!$A$6:$AK$150,$T21,0) -> #N/A | F21: =IF(AND((D20-D21)=-1,(D21-D22)=1),"加退保",IF((D21-D22)=1,"退保",IF((D20-D21)=-1,"加保",""))) -> #N/A | G21: =IF(U21="","",ROUNDUP((U21/E21),0)&"-"&E21) -> #N/A | H21: =IF(E21="","",VLOOKUP(G21,[3]部分工時薪資級距!$A$4:$N$243,14,0)) -> #N/A | I21: =IF($G21="","",VLOOKUP($G21,[3]部分工時薪資級距!$A$4:$N$243,3,0)*S21) -> #N/A | J21: =IF($G21="","",VLOOKUP($G21,[3]部分工時薪資級距!$A$4:$N$243,4,0)*IF(VLOOKUP(A3,'[2]107學年'!$B$2:$G$3000,6,0)="外籍生","0",S21)) -> #N/A | K21: =IF($G21="","",ROUNDUP((VLOOKUP($G21,[3]部分工時薪資級距!$A$4:$N$243,5,0)*S21),0)) -> #N/A | L21: =IF($G21="","",VLOOKUP($G21,[3]部分工時薪資級距!$A$4:$N$243,6,0)) -> #N/A | M21: =IF($G21="","",VLOOKUP($G21,[3]部分工時薪資級距!$A$4:$N$243,7,0)*IF(VLOOKUP(A3,'[2]107學年'!$B$2:$G$3000,6,0)="外籍生","0",1)) -> #N/A | N21: =IF($G21="","",VLOOKUP($G21,[3]部分工時薪資級距!$A$4:$N$243,9,0)) -> #N/A | O21: =IF($G21="","",VLOOKUP($G21,[3]部分工時薪資級距!$A$4:$N$243,10,0)) -> #N/A | P21: =IF(AND(N21="",O21=""),"",SUM(L21:O21)) -> #N/A | Q21: =IF($G21="","",VLOOKUP($G21,[3]部分工時薪資級距!$A$4:$N$243,12,0)*IF(VLOOKUP(A3,'[2]107學年'!$B$2:$G$3000,6,0)="外籍生","0",1)) -> #N/A | R21: =IF(AND(P21="",Q21=""),"",P21+Q21) -> #N/A | S21: =IF(C21=0,"",IF(LEFT(VLOOKUP($A$3,'[2]107學年'!$B$2:$G$4000,6,0),1)="重","0",IF(LEFT(VLOOKUP($A$3,'[2]107學年'!$B$2:$G$4000,6,0),1)="中","0.5",IF(LEFT(VLOOKUP($A$3,'[2]107學年'!$B$2:$G$4000,6,0),1)="輕","0.75",1)))) -> #N/A | T21: 13 | U21: =IF(E21="","",SUM(C21:C$41,0)-SUM(U22:U$41)) -> #N/A
A22: 12 | B22: =IF(ISNA(VLOOKUP(VALUE($A$1&A22),[2]日曆!$A$2:$E$335,5,0)),"",VLOOKUP(VALUE($A$1&A22),[2]日曆!$A$2:$E$335,5,0)) -> 五 | C22: =VLOOKUP($A$3,'[1]03-工讀時數表'!$A$6:$AG$1000,$T22,0) -> #N/A | D22: =IF(VLOOKUP($A$3,'[1]04-工讀日數'!$A$6:$AG$1000,$T22,0)>1,1,VLOOKUP($A$3,'[1]04-工讀日數'!$A$6:$AG$1000,$T22,0)) -> #N/A | E22: =VLOOKUP($A$3,'[1]05-連續工讀累計'!$A$6:$AK$150,$T22,0) -> #N/A | F22: =IF(AND((D21-D22)=-1,(D22-D23)=1),"加退保",IF((D22-D23)=1,"退保",IF((D21-D22)=-1,"加保",""))) -> #N/A | G22: =IF(U22="","",ROUNDUP((U22/E22),0)&"-"&E22) -> #N/A | H22: =IF(E22="","",VLOOKUP(G22,[3]部分工時薪資級距!$A$4:$N$243,14,0)) -> #N/A | I22: =IF($G22="","",VLOOKUP($G22,[3]部分工時薪資級距!$A$4:$N$243,3,0)*S22) -> #N/A | J22: =IF($G22="","",VLOOKUP($G22,[3]部分工時薪資級距!$A$4:$N$243,4,0)*IF(VLOOKUP(A3,'[2]107學年'!$B$2:$G$3000,6,0)="外籍生","0",S22)) -> #N/A | K22: =IF($G22="","",ROUNDUP((VLOOKUP($G22,[3]部分工時薪資級距!$A$4:$N$243,5,0)*S22),0)) -> #N/A | L22: =IF($G22="","",VLOOKUP($G22,[3]部分工時薪資級距!$A$4:$N$243,6,0)) -> #N/A | M22: =IF($G22="","",VLOOKUP($G22,[3]部分工時薪資級距!$A$4:$N$243,7,0)*IF(VLOOKUP(A3,'[2]107學年'!$B$2:$G$3000,6,0)="外籍生","0",1)) -> #N/A | N22: =IF($G22="","",VLOOKUP($G22,[3]部分工時薪資級距!$A$4:$N$243,9,0)) -> #N/A | O22: =IF($G22="","",VLOOKUP($G22,[3]部分工時薪資級距!$A$4:$N$243,10,0)) -> #N/A | P22: =IF(AND(N22="",O22=""),"",SUM(L22:O22)) -> #N/A | Q22: =IF($G22="","",VLOOKUP($G22,[3]部分工時薪資級距!$A$4:$N$243,12,0)*IF(VLOOKUP(A3,'[2]107學年'!$B$2:$G$3000,6,0)="外籍生","0",1)) -> #N/A | R22: =IF(AND(P22="",Q22=""),"",P22+Q22) -> #N/A | S22: =IF(C22=0,"",IF(LEFT(VLOOKUP($A$3,'[2]107學年'!$B$2:$G$4000,6,0),1)="重","0",IF(LEFT(VLOOKUP($A$3,'[2]107學年'!$B$2:$G$4000,6,0),1)="中","0.5",IF(LEFT(VLOOKUP($A$3,'[2]107學年'!$B$2:$G$4000,6,0),1)="輕","0.75",1)))) -> #N/A | T22: 14 | U22: =IF(E22="","",SUM(C22:C$41,0)-SUM(U23:U$41)) -> #N/A
A23: 13 | B23: =IF(ISNA(VLOOKUP(VALUE($A$1&A23),[2]日曆!$A$2:$E$335,5,0)),"",VLOOKUP(VALUE($A$1&A23),[2]日曆!$A$2:$E$335,5,0)) -> 六 | C23: =VLOOKUP($A$3,'[1]03-工讀時數表'!$A$6:$AG$1000,$T23,0) -> #N/A | D23: =IF(VLOOKUP($A$3,'[1]04-工讀日數'!$A$6:$AG$1000,$T23,0)>1,1,VLOOKUP($A$3,'[1]04-工讀日數'!$A$6:$AG$1000,$T23,0)) -> #N/A | E23: =VLOOKUP($A$3,'[1]05-連續工讀累計'!$A$6:$AK$150,$T23,0) -> #N/A | F23: =IF(AND((D22-D23)=-1,(D23-D24)=1),"加退保",IF((D23-D24)=1,"退保",IF((D22-D23)=-1,"加保",""))) -> #N/A | G23: =IF(U23="","",ROUNDUP((U23/E23),0)&"-"&E23) -> #N/A | H23: =IF(E23="","",VLOOKUP(G23,[3]部分工時薪資級距!$A$4:$N$243,14,0)) -> #N/A | I23: =IF($G23="","",VLOOKUP($G23,[3]部分工時薪資級距!$A$4:$N$243,3,0)*S23) -> #N/A | J23: =IF($G23="","",VLOOKUP($G23,[3]部分工時薪資級距!$A$4:$N$243,4,0)*IF(VLOOKUP(A3,'[2]107學年'!$B$2:$G$3000,6,0)="外籍生","0",S23)) -> #N/A | K23: =IF($G23="","",ROUNDUP((VLOOKUP($G23,[3]部分工時薪資級距!$A$4:$N$243,5,0)*S23),0)) -> #N/A | L23: =IF($G23="","",VLOOKUP($G23,[3]部分工時薪資級距!$A$4:$N$243,6,0)) -> #N/A | M23: =IF($G23="","",VLOOKUP($G23,[3]部分工時薪資級距!$A$4:$N$243,7,0)*IF(VLOOKUP(A3,'[2]107學年'!$B$2:$G$3000,6,0)="外籍生","0",1)) -> #N/A | N23: =IF($G23="","",VLOOKUP($G23,[3]部分工時薪資級距!$A$4:$N$243,9,0)) -> #N/A | O23: =IF($G23="","",VLOOKUP($G23,[3]部分工時薪資級距!$A$4:$N$243,10,0)) -> #N/A | P23: =IF(AND(N23="",O23=""),"",SUM(L23:O23)) -> #N/A | Q23: =IF($G23="","",VLOOKUP($G23,[3]部分工時薪資級距!$A$4:$N$243,12,0)*IF(VLOOKUP(A3,'[2]107學年'!$B$2:$G$3000,6,0)="外籍生","0",1)) -> #N/A | R23: =IF(AND(P23="",Q23=""),"",P23+Q23) -> #N/A | S23: =IF(C23=0,"",IF(LEFT(VLOOKUP($A$3,'[2]107學年'!$B$2:$G$4000,6,0),1)="重","0",IF(LEFT(VLOOKUP($A$3,'[2]107學年'!$B$2:$G$4000,6,0),1)="中","0.5",IF(LEFT(VLOOKUP($A$3,'[2]107學年'!$B$2:$G$4000,6,0),1)="輕","0.75",1)))) -> #N/A | T23: 15 | U23: =IF(E23="","",SUM(C23:C$41,0)-SUM(U24:U$41)) -> #N/A
A24: 14 | B24: =IF(ISNA(VLOOKUP(VALUE($A$1&A24),[2]日曆!$A$2:$E$335,5,0)),"",VLOOKUP(VALUE($A$1&A24),[2]日曆!$A$2:$E$335,5,0)) -> 日 | C24: =VLOOKUP($A$3,'[1]03-工讀時數表'!$A$6:$AG$1000,$T24,0) -> #N/A | D24: =IF(VLOOKUP($A$3,'[1]04-工讀日數'!$A$6:$AG$1000,$T24,0)>1,1,VLOOKUP($A$3,'[1]04-工讀日數'!$A$6:$AG$1000,$T24,0)) -> #N/A | E24: =VLOOKUP($A$3,'[1]05-連續工讀累計'!$A$6:$AK$150,$T24,0) -> #N/A | F24: =IF(AND((D23-D24)=-1,(D24-D25)=1),"加退保",IF((D24-D25)=1,"退保",IF((D23-D24)=-1,"加保",""))) -> #N/A | G24: =IF(U24="","",ROUNDUP((U24/E24),0)&"-"&E24) -> #N/A | H24: =IF(E24="","",VLOOKUP(G24,[3]部分工時薪資級距!$A$4:$N$243,14,0)) -> #N/A | I24: =IF($G24="","",VLOOKUP($G24,[3]部分工時薪資級距!$A$4:$N$243,3,0)*S24) -> #N/A | J24: =IF($G24="","",VLOOKUP($G24,[3]部分工時薪資級距!$A$4:$N$243,4,0)*IF(VLOOKUP(A3,'[2]107學年'!$B$2:$G$3000,6,0)="外籍生","0",S24)) -> #N/A | K24: =IF($G24="","",ROUNDUP((VLOOKUP($G24,[3]部分工時薪資級距!$A$4:$N$243,5,0)*S24),0)) -> #N/A | L24: =IF($G24="","",VLOOKUP($G24,[3]部分工時薪資級距!$A$4:$N$243,6,0)) -> #N/A | M24: =IF($G24="","",VLOOKUP($G24,[3]部分工時薪資級距!$A$4:$N$243,7,0)*IF(VLOOKUP(A3,'[2]107學年'!$B$2:$G$3000,6,0)="外籍生","0",1)) -> #N/A | N24: =IF($G24="","",VLOOKUP($G24,[3]部分工時薪資級距!$A$4:$N$243,9,0)) -> #N/A | O24: =IF($G24="","",VLOOKUP($G24,[3]部分工時薪資級距!$A$4:$N$243,10,0)) -> #N/A | P24: =IF(AND(N24="",O24=""),"",SUM(L24:O24)) -> #N/A | Q24: =IF($G24="","",VLOOKUP($G24,[3]部分工時薪資級距!$A$4:$N$243,12,0)*IF(VLOOKUP(A3,'[2]107學年'!$B$2:$G$3000,6,0)="外籍生","0",1)) -> #N/A | R24: =IF(AND(P24="",Q24=""),"",P24+Q24) -> #N/A | S24: =IF(C24=0,"",IF(LEFT(VLOOKUP($A$3,'[2]107學年'!$B$2:$G$4000,6,0),1)="重","0",IF(LEFT(VLOOKUP($A$3,'[2]107學年'!$B$2:$G$4000,6,0),1)="中","0.5",IF(LEFT(VLOOKUP($A$3,'[2]107學年'!$B$2:$G$4000,6,0),1)="輕","0.75",1)))) -> #N/A | T24: 16 | U24: =IF(E24="","",SUM(C24:C$41,0)-SUM(U25:U$41)) -> #N/A
A25: 15 | B25: =IF(ISNA(VLOOKUP(VALUE($A$1&A25),[2]日曆!$A$2:$E$335,5,0)),"",VLOOKUP(VALUE($A$1&A25),[2]日曆!$A$2:$E$335,5,0)) -> 一 | C25: =VLOOKUP($A$3,'[1]03-工讀時數表'!$A$6:$AG$1000,$T25,0) -> #N/A | D25: =IF(VLOOKUP($A$3,'[1]04-工讀日數'!$A$6:$AG$1000,$T25,0)>1,1,VLOOKUP($A$3,'[1]04-工讀日數'!$A$6:$AG$1000,$T25,0)) -> #N/A | E25: =VLOOKUP($A$3,'[1]05-連續工讀累計'!$A$6:$AK$150,$T25,0) -> #N/A | F25: =IF(AND((D24-D25)=-1,(D25-D26)=1),"加退保",IF((D25-D26)=1,"退保",IF((D24-D25)=-1,"加保",""))) -> #N/A | G25: =IF(U25="","",ROUNDUP((U25/E25),0)&"-"&E25) -> #N/A | H25: =IF(E25="","",VLOOKUP(G25,[3]部分工時薪資級距!$A$4:$N$243,14,0)) -> #N/A | I25: =IF($G25="","",VLOOKUP($G25,[3]部分工時薪資級距!$A$4:$N$243,3,0)*S25) -> #N/A | J25: =IF($G25="","",VLOOKUP($G25,[3]部分工時薪資級距!$A$4:$N$243,4,0)*IF(VLOOKUP(A3,'[2]107學年'!$B$2:$G$3000,6,0)="外籍生","0",S25)) -> #N/A | K25: =IF($G25="","",ROUNDUP((VLOOKUP($G25,[3]部分工時薪資級距!$A$4:$N$243,5,0)*S25),0)) -> #N/A | L25: =IF($G25="","",VLOOKUP($G25,[3]部分工時薪資級距!$A$4:$N$243,6,0)) -> #N/A | M25: =IF($G25="","",VLOOKUP($G25,[3]部分工時薪資級距!$A$4:$N$243,7,0)*IF(VLOOKUP(A3,'[2]107學年'!$B$2:$G$3000,6,0)="外籍生","0",1)) -> #N/A | N25: =IF($G25="","",VLOOKUP($G25,[3]部分工時薪資級距!$A$4:$N$243,9,0)) -> #N/A | O25: =IF($G25="","",VLOOKUP($G25,[3]部分工時薪資級距!$A$4:$N$243,10,0)) -> #N/A | P25: =IF(AND(N25="",O25=""),"",SUM(L25:O25)) -> #N/A | Q25: =IF($G25="","",VLOOKUP($G25,[3]部分工時薪資級距!$A$4:$N$243,12,0)*IF(VLOOKUP(A3,'[2]107學年'!$B$2:$G$3000,6,0)="外籍生","0",1)) -> #N/A | R25: =IF(AND(P25="",Q25=""),"",P25+Q25) -> #N/A | S25: =IF(C25=0,"",IF(LEFT(VLOOKUP($A$3,'[2]107學年'!$B$2:$G$4000,6,0),1)="重","0",IF(LEFT(VLOOKUP($A$3,'[2]107學年'!$B$2:$G$4000,6,0),1)="中","0.5",IF(LEFT(VLOOKUP($A$3,'[2]107學年'!$B$2:$G$4000,6,0),1)="輕","0.75",1)))) -> #N/A | T25: 17 | U25: =IF(E25="","",SUM(C25:C$41,0)-SUM(U26:U$41)) -> #N/A
A26: 16 | B26: =IF(ISNA(VLOOKUP(VALUE($A$1&A26),[2]日曆!$A$2:$E$335,5,0)),"",VLOOKUP(VALUE($A$1&A26),[2]日曆!$A$2:$E$335,5,0)) -> 二 | C26: =VLOOKUP($A$3,'[1]03-工讀時數表'!$A$6:$AG$1000,$T26,0) -> #N/A | D26: =IF(VLOOKUP($A$3,'[1]04-工讀日數'!$A$6:$AG$1000,$T26,0)>1,1,VLOOKUP($A$3,'[1]04-工讀日數'!$A$6:$AG$1000,$T26,0)) -> #N/A | E26: =VLOOKUP($A$3,'[1]05-連續工讀累計'!$A$6:$AK$150,$T26,0) -> #N/A | F26: =IF(AND((D25-D26)=-1,(D26-D27)=1),"加退保",IF((D26-D27)=1,"退保",IF((D25-D26)=-1,"加保",""))) -> #N/A | G26: =IF(U26="","",ROUNDUP((U26/E26),0)&"-"&E26) -> #N/A | H26: =IF(E26="","",VLOOKUP(G26,[3]部分工時薪資級距!$A$4:$N$243,14,0)) -> #N/A | I26: =IF($G26="","",VLOOKUP($G26,[3]部分工時薪資級距!$A$4:$N$243,3,0)*S26) -> #N/A | J26: =IF($G26="","",VLOOKUP($G26,[3]部分工時薪資級距!$A$4:$N$243,4,0)*IF(VLOOKUP($A$3,'[2]107學年'!$B$2:$G$3000,6,0)="外籍生","0",S26)) -> #N/A | K26: =IF($G26="","",ROUNDUP((VLOOKUP($G26,[3]部分工時薪資級距!$A$4:$N$243,5,0)*S26),0)) -> #N/A | L26: =IF($G26="","",VLOOKUP($G26,[3]部分工時薪資級距!$A$4:$N$243,6,0)) -> #N/A | M26: =IF($G26="","",VLOOKUP($G26,[3]部分工時薪資級距!$A$4:$N$243,7,0)*IF(VLOOKUP(A3,'[2]107學年'!$B$2:$G$3000,6,0)="外籍生","0",1)) -> #N/A | N26: =IF($G26="","",VLOOKUP($G26,[3]部分工時薪資級距!$A$4:$N$243,9,0)) -> #N/A | O26: =IF($G26="","",VLOOKUP($G26,[3]部分工時薪資級距!$A$4:$N$243,10,0)) -> #N/A | P26: =IF(AND(N26="",O26=""),"",SUM(L26:O26)) -> #N/A | Q26: =IF($G26="","",VLOOKUP($G26,[3]部分工時薪資級距!$A$4:$N$243,12,0)*IF(VLOOKUP(A3,'[2]107學年'!$B$2:$G$3000,6,0)="外籍生","0",1)) -> #N/A | R26: =IF(AND(P26="",Q26=""),"",P26+Q26) -> #N/A | S26: =IF(C26=0,"",IF(LEFT(VLOOKUP($A$3,'[2]107學年'!$B$2:$G$4000,6,0),1)="重","0",IF(LEFT(VLOOKUP($A$3,'[2]107學年'!$B$2:$G$4000,6,0),1)="中","0.5",IF(LEFT(VLOOKUP($A$3,'[2]107學年'!$B$2:$G$4000,6,0),1)="輕","0.75",1)))) -> #N/A | T26: 18 | U26: =IF(E26="","",SUM(C26:C$41,0)-SUM(U27:U$41)) -> #N/A
A27: 17 | B27: =IF(ISNA(VLOOKUP(VALUE($A$1&A27),[2]日曆!$A$2:$E$335,5,0)),"",VLOOKUP(VALUE($A$1&A27),[2]日曆!$A$2:$E$335,5,0)) -> 三 | C27: =VLOOKUP($A$3,'[1]03-工讀時數表'!$A$6:$AG$1000,$T27,0) -> #N/A | D27: =IF(VLOOKUP($A$3,'[1]04-工讀日數'!$A$6:$AG$1000,$T27,0)>1,1,VLOOKUP($A$3,'[1]04-工讀日數'!$A$6:$AG$1000,$T27,0)) -> #N/A | E27: =VLOOKUP($A$3,'[1]05-連續工讀累計'!$A$6:$AK$150,$T27,0) -> #N/A | F27: =IF(AND((D26-D27)=-1,(D27-D28)=1),"加退保",IF((D27-D28)=1,"退保",IF((D26-D27)=-1,"加保",""))) -> #N/A | G27: =IF(U27="","",ROUNDUP((U27/E27),0)&"-"&E27) -> #N/A | H27: =IF(E27="","",VLOOKUP(G27,[3]部分工時薪資級距!$A$4:$N$243,14,0)) -> #N/A | I27: =IF($G27="","",VLOOKUP($G27,[3]部分工時薪資級距!$A$4:$N$243,3,0)*S27) -> #N/A | J27: =IF($G27="","",VLOOKUP($G27,[3]部分工時薪資級距!$A$4:$N$243,4,0)*IF(VLOOKUP($A$3,'[2]107學年'!$B$2:$G$3000,6,0)="外籍生","0",S27)) -> #N/A | K27: =IF($G27="","",ROUNDUP((VLOOKUP($G27,[3]部分工時薪資級距!$A$4:$N$243,5,0)*S27),0)) -> #N/A | L27: =IF($G27="","",VLOOKUP($G27,[3]部分工時薪資級距!$A$4:$N$243,6,0)) -> #N/A | M27: =IF($G27="","",VLOOKUP($G27,[3]部分工時薪資級距!$A$4:$N$243,7,0)*IF(VLOOKUP(A3,'[2]107學年'!$B$2:$G$3000,6,0)="外籍生","0",1)) -> #N/A | N27: =IF($G27="","",VLOOKUP($G27,[3]部分工時薪資級距!$A$4:$N$243,9,0)) -> #N/A | O27: =IF($G27="","",VLOOKUP($G27,[3]部分工時薪資級距!$A$4:$N$243,10,0)) -> #N/A | P27: =IF(AND(N27="",O27=""),"",SUM(L27:O27)) -> #N/A | Q27: =IF($G27="","",VLOOKUP($G27,[3]部分工時薪資級距!$A$4:$N$243,12,0)*IF(VLOOKUP(A3,'[2]107學年'!$B$2:$G$3000,6,0)="外籍生","0",1)) -> #N/A | R27: =IF(AND(P27="",Q27=""),"",P27+Q27) -> #N/A | S27: =IF(C27=0,"",IF(LEFT(VLOOKUP($A$3,'[2]107學年'!$B$2:$G$4000,6,0),1)="重","0",IF(LEFT(VLOOKUP($A$3,'[2]107學年'!$B$2:$G$4000,6,0),1)="中","0.5",IF(LEFT(VLOOKUP($A$3,'[2]107學年'!$B$2:$G$4000,6,0),1)="輕","0.75",1)))) -> #N/A | T27: 19 | U27: =IF(E27="","",SUM(C27:C$41,0)-SUM(U28:U$41)) -> #N/A
A28: 18 | B28: =IF(ISNA(VLOOKUP(VALUE($A$1&A28),[2]日曆!$A$2:$E$335,5,0)),"",VLOOKUP(VALUE($A$1&A28),[2]日曆!$A$2:$E$335,5,0)) -> 四 | C28: =VLOOKUP($A$3,'[1]03-工讀時數表'!$A$6:$AG$1000,$T28,0) -> #N/A | D28: =IF(VLOOKUP($A$3,'[1]04-工讀日數'!$A$6:$AG$1000,$T28,0)>1,1,VLOOKUP($A$3,'[1]04-工讀日數'!$A$6:$AG$1000,$T28,0)) -> #N/A | E28: =VLOOKUP($A$3,'[1]05-連續工讀累計'!$A$6:$AK$150,$T28,0) -> #N/A | F28: =IF(AND((D27-D28)=-1,(D28-D29)=1),"加退保",IF((D28-D29)=1,"退保",IF((D27-D28)=-1,"加保",""))) -> #N/A | G28: =IF(U28="","",ROUNDUP((U28/E28),0)&"-"&E28) -> #N/A | H28: =IF(E28="","",VLOOKUP(G28,[3]部分工時薪資級距!$A$4:$N$243,14,0)) -> #N/A | I28: =IF($G28="","",VLOOKUP($G28,[3]部分工時薪資級距!$A$4:$N$243,3,0)*S28) -> #N/A | J28: =IF($G28="","",VLOOKUP($G28,[3]部分工時薪資級距!$A$4:$N$243,4,0)*IF(VLOOKUP($A$3,'[2]107學年'!$B$2:$G$3000,6,0)="外籍生","0",S28)) -> #N/A | K28: =IF($G28="","",ROUNDUP((VLOOKUP($G28,[3]部分工時薪資級距!$A$4:$N$243,5,0)*S28),0)) -> #N/A | L28: =IF($G28="","",VLOOKUP($G28,[3]部分工時薪資級距!$A$4:$N$243,6,0)) -> #N/A | M28: =IF($G28="","",VLOOKUP($G28,[3]部分工時薪資級距!$A$4:$N$243,7,0)*IF(VLOOKUP(A3,'[2]107學年'!$B$2:$G$3000,6,0)="外籍生","0",1)) -> #N/A | N28: =IF($G28="","",VLOOKUP($G28,[3]部分工時薪資級距!$A$4:$N$243,9,0)) -> #N/A | O28: =IF($G28="","",VLOOKUP($G28,[3]部分工時薪資級距!$A$4:$N$243,10,0)) -> #N/A | P28: =IF(AND(N28="",O28=""),"",SUM(L28:O28)) -> #N/A | Q28: =IF($G28="","",VLOOKUP($G28,[3]部分工時薪資級距!$A$4:$N$243,12,0)*IF(VLOOKUP(A3,'[2]107學年'!$B$2:$G$3000,6,0)="外籍生","0",1)) -> #N/A | R28: =IF(AND(P28="",Q28=""),"",P28+Q28) -> #N/A | S28: =IF(C28=0,"",IF(LEFT(VLOOKUP($A$3,'[2]107學年'!$B$2:$G$4000,6,0),1)="重","0",IF(LEFT(VLOOKUP($A$3,'[2]107學年'!$B$2:$G$4000,6,0),1)="中","0.5",IF(LEFT(VLOOKUP($A$3,'[2]107學年'!$B$2:$G$4000,6,0),1)="輕","0.75",1)))) -> #N/A | T28: 20 | U28: =IF(E28="","",SUM(C28:C$41,0)-SUM(U29:U$41)) -> #N/A
A29: 19 | B29: =IF(ISNA(VLOOKUP(VALUE($A$1&A29),[2]日曆!$A$2:$E$335,5,0)),"",VLOOKUP(VALUE($A$1&A29),[2]日曆!$A$2:$E$335,5,0)) -> 五 | C29: =VLOOKUP($A$3,'[1]03-工讀時數表'!$A$6:$AG$1000,$T29,0) -> #N/A | D29: =IF(VLOOKUP($A$3,'[1]04-工讀日數'!$A$6:$AG$1000,$T29,0)>1,1,VLOOKUP($A$3,'[1]04-工讀日數'!$A$6:$AG$1000,$T29,0)) -> #N/A | E29: =VLOOKUP($A$3,'[1]05-連續工讀累計'!$A$6:$AK$150,$T29,0) -> #N/A | F29: =IF(AND((D28-D29)=-1,(D29-D30)=1),"加退保",IF((D29-D30)=1,"退保",IF((D28-D29)=-1,"加保",""))) -> #N/A | G29: =IF(U29="","",ROUNDUP((U29/E29),0)&"-"&E29) -> #N/A | H29: =IF(E29="","",VLOOKUP(G29,[3]部分工時薪資級距!$A$4:$N$243,14,0)) -> #N/A | I29: =IF($G29="","",VLOOKUP($G29,[3]部分工時薪資級距!$A$4:$N$243,3,0)*S29) -> #N/A | J29: =IF($G29="","",VLOOKUP($G29,[3]部分工時薪資級距!$A$4:$N$243,4,0)*IF(VLOOKUP($A$3,'[2]107學年'!$B$2:$G$3000,6,0)="外籍生","0",S29)) -> #N/A | K29: =IF($G29="","",ROUNDUP((VLOOKUP($G29,[3]部分工時薪資級距!$A$4:$N$243,5,0)*S29),0)) -> #N/A | L29: =IF($G29="","",VLOOKUP($G29,[3]部分工時薪資級距!$A$4:$N$243,6,0)) -> #N/A | M29: =IF($G29="","",VLOOKUP($G29,[3]部分工時薪資級距!$A$4:$N$243,7,0)*IF(VLOOKUP(A3,'[2]107學年'!$B$2:$G$3000,6,0)="外籍生","0",1)) -> #N/A | N29: =IF($G29="","",VLOOKUP($G29,[3]部分工時薪資級距!$A$4:$N$243,9,0)) -> #N/A | O29: =IF($G29="","",VLOOKUP($G29,[3]部分工時薪資級距!$A$4:$N$243,10,0)) -> #N/A | P29: =IF(AND(N29="",O29=""),"",SUM(L29:O29)) -> #N/A | Q29: =IF($G29="","",VLOOKUP($G29,[3]部分工時薪資級距!$A$4:$N$243,12,0)*IF(VLOOKUP(A3,'[2]107學年'!$B$2:$G$3000,6,0)="外籍生","0",1)) -> #N/A | R29: =IF(AND(P29="",Q29=""),"",P29+Q29) -> #N/A | S29: =IF(C29=0,"",IF(LEFT(VLOOKUP($A$3,'[2]107學年'!$B$2:$G$4000,6,0),1)="重","0",IF(LEFT(VLOOKUP($A$3,'[2]107學年'!$B$2:$G$4000,6,0),1)="中","0.5",IF(LEFT(VLOOKUP($A$3,'[2]107學年'!$B$2:$G$4000,6,0),1)="輕","0.75",1)))) -> #N/A | T29: 21 | U29: =IF(E29="","",SUM(C29:C$41,0)-SUM(U30:U$41)) -> #N/A
A30: 20 | B30: =IF(ISNA(VLOOKUP(VALUE($A$1&A30),[2]日曆!$A$2:$E$335,5,0)),"",VLOOKUP(VALUE($A$1&A30),[2]日曆!$A$2:$E$335,5,0)) -> 六 | C30: =VLOOKUP($A$3,'[1]03-工讀時數表'!$A$6:$AG$1000,$T30,0) -> #N/A | D30: =IF(VLOOKUP($A$3,'[1]04-工讀日數'!$A$6:$AG$1000,$T30,0)>1,1,VLOOKUP($A$3,'[1]04-工讀日數'!$A$6:$AG$1000,$T30,0)) -> #N/A | E30: =VLOOKUP($A$3,'[1]05-連續工讀累計'!$A$6:$AK$150,$T30,0) -> #N/A | F30: =IF(AND((D29-D30)=-1,(D30-D31)=1),"加退保",IF((D30-D31)=1,"退保",IF((D29-D30)=-1,"加保",""))) -> #N/A | G30: =IF(U30="","",ROUNDUP((U30/E30),0)&"-"&E30) -> #N/A | H30: =IF(E30="","",VLOOKUP(G30,[3]部分工時薪資級距!$A$4:$N$243,14,0)) -> #N/A | I30: =IF($G30="","",VLOOKUP($G30,[3]部分工時薪資級距!$A$4:$N$243,3,0)*S30) -> #N/A | J30: =IF($G30="","",VLOOKUP($G30,[3]部分工時薪資級距!$A$4:$N$243,4,0)*IF(VLOOKUP($A$3,'[2]107學年'!$B$2:$G$3000,6,0)="外籍生","0",S30)) -> #N/A | K30: =IF($G30="","",ROUNDUP((VLOOKUP($G30,[3]部分工時薪資級距!$A$4:$N$243,5,0)*S30),0)) -> #N/A | L30: =IF($G30="","",VLOOKUP($G30,[3]部分工時薪資級距!$A$4:$N$243,6,0)) -> #N/A | M30: =IF($G30="","",VLOOKUP($G30,[3]部分工時薪資級距!$A$4:$N$243,7,0)*IF(VLOOKUP(A3,'[2]107學年'!$B$2:$G$3000,6,0)="外籍生","0",1)) -> #N/A | N30: =IF($G30="","",VLOOKUP($G30,[3]部分工時薪資級距!$A$4:$N$243,9,0)) -> #N/A | O30: =IF($G30="","",VLOOKUP($G30,[3]部分工時薪資級距!$A$4:$N$243,10,0)) -> #N/A | P30: =IF(AND(N30="",O30=""),"",SUM(L30:O30)) -> #N/A | Q30: =IF($G30="","",VLOOKUP($G30,[3]部分工時薪資級距!$A$4:$N$243,12,0)*IF(VLOOKUP(A3,'[2]107學年'!$B$2:$G$3000,6,0)="外籍生","0",1)) -> #N/A | R30: =IF(AND(P30="",Q30=""),"",P30+Q30) -> #N/A | S30: =IF(C30=0,"",IF(LEFT(VLOOKUP($A$3,'[2]107學年'!$B$2:$G$4000,6,0),1)="重","0",IF(LEFT(VLOOKUP($A$3,'[2]107學年'!$B$2:$G$4000,6,0),1)="中","0.5",IF(LEFT(VLOOKUP($A$3,'[2]107學年'!$B$2:$G$4000,6,0),1)="輕","0.75",1)))) -> #N/A | T30: 22 | U30: =IF(E30="","",SUM(C30:C$41,0)-SUM(U31:U$41)) -> #N/A
A31: 21 | B31: =IF(ISNA(VLOOKUP(VALUE($A$1&A31),[2]日曆!$A$2:$E$335,5,0)),"",VLOOKUP(VALUE($A$1&A31),[2]日曆!$A$2:$E$335,5,0)) -> 日 | C31: =VLOOKUP($A$3,'[1]03-工讀時數表'!$A$6:$AG$1000,$T31,0) -> #N/A | D31: =IF(VLOOKUP($A$3,'[1]04-工讀日數'!$A$6:$AG$1000,$T31,0)>1,1,VLOOKUP($A$3,'[1]04-工讀日數'!$A$6:$AG$1000,$T31,0)) -> #N/A | E31: =VLOOKUP($A$3,'[1]05-連續工讀累計'!$A$6:$AK$150,$T31,0) -> #N/A | F31: =IF(AND((D30-D31)=-1,(D31-D32)=1),"加退保",IF((D31-D32)=1,"退保",IF((D30-D31)=-1,"加保",""))) -> #N/A | G31: =IF(U31="","",ROUNDUP((U31/E31),0)&"-"&E31) -> #N/A | H31: =IF(E31="","",VLOOKUP(G31,[3]部分工時薪資級距!$A$4:$N$243,14,0)) -> #N/A | I31: =IF($G31="","",VLOOKUP($G31,[3]部分工時薪資級距!$A$4:$N$243,3,0)*S31) -> #N/A | J31: =IF($G31="","",VLOOKUP($G31,[3]部分工時薪資級距!$A$4:$N$243,4,0)*IF(VLOOKUP($A$3,'[2]107學年'!$B$2:$G$3000,6,0)="外籍生","0",S31)) -> #N/A | K31: =IF($G31="","",ROUNDUP((VLOOKUP($G31,[3]部分工時薪資級距!$A$4:$N$243,5,0)*S31),0)) -> #N/A | L31: =IF($G31="","",VLOOKUP($G31,[3]部分工時薪資級距!$A$4:$N$243,6,0)) -> #N/A | M31: =IF($G31="","",VLOOKUP($G31,[3]部分工時薪資級距!$A$4:$N$243,7,0)*IF(VLOOKUP(A3,'[2]107學年'!$B$2:$G$3000,6,0)="外籍生","0",1)) -> #N/A | N31: =IF($G31="","",VLOOKUP($G31,[3]部分工時薪資級距!$A$4:$N$243,9,0)) -> #N/A | O31: =IF($G31="","",VLOOKUP($G31,[3]部分工時薪資級距!$A$4:$N$243,10,0)) -> #N/A | P31: =IF(AND(N31="",O31=""),"",SUM(L31:O31)) -> #N/A | Q31: =IF($G31="","",VLOOKUP($G31,[3]部分工時薪資級距!$A$4:$N$243,12,0)*IF(VLOOKUP(A3,'[2]107學年'!$B$2:$G$3000,6,0)="外籍生","0",1)) -> #N/A | R31: =IF(AND(P31="",Q31=""),"",P31+Q31) -> #N/A | S31: =IF(C31=0,"",IF(LEFT(VLOOKUP($A$3,'[2]107學年'!$B$2:$G$4000,6,0),1)="重","0",IF(LEFT(VLOOKUP($A$3,'[2]107學年'!$B$2:$G$4000,6,0),1)="中","0.5",IF(LEFT(VLOOKUP($A$3,'[2]107學年'!$B$2:$G$4000,6,0),1)="輕","0.75",1)))) -> #N/A | T31: 23 | U31: =IF(E31="","",SUM(C31:C$41,0)-SUM(U32:U$41)) -> #N/A
A32: 22 | B32: =IF(ISNA(VLOOKUP(VALUE($A$1&A32),[2]日曆!$A$2:$E$335,5,0)),"",VLOOKUP(VALUE($A$1&A32),[2]日曆!$A$2:$E$335,5,0)) -> 一 | C32: =VLOOKUP($A$3,'[1]03-工讀時數表'!$A$6:$AG$1000,$T32,0) -> #N/A | D32: =IF(VLOOKUP($A$3,'[1]04-工讀日數'!$A$6:$AG$1000,$T32,0)>1,1,VLOOKUP($A$3,'[1]04-工讀日數'!$A$6:$AG$1000,$T32,0)) -> #N/A | E32: =VLOOKUP($A$3,'[1]05-連續工讀累計'!$A$6:$AK$150,$T32,0) -> #N/A | F32: =IF(AND((D31-D32)=-1,(D32-D33)=1),"加退保",IF((D32-D33)=1,"退保",IF((D31-D32)=-1,"加保",""))) -> #N/A | G32: =IF(U32="","",ROUNDUP((U32/E32),0)&"-"&E32) -> #N/A | H32: =IF(E32="","",VLOOKUP(G32,[3]部分工時薪資級距!$A$4:$N$243,14,0)) -> #N/A | I32: =IF($G32="","",VLOOKUP($G32,[3]部分工時薪資級距!$A$4:$N$243,3,0)*S32) -> #N/A | J32: =IF($G32="","",VLOOKUP($G32,[3]部分工時薪資級距!$A$4:$N$243,4,0)*IF(VLOOKUP($A$3,'[2]107學年'!$B$2:$G$3000,6,0)="外籍生","0",S32)) -> #N/A | K32: =IF($G32="","",ROUNDUP((VLOOKUP($G32,[3]部分工時薪資級距!$A$4:$N$243,5,0)*S32),0)) -> #N/A | L32: =IF($G32="","",VLOOKUP($G32,[3]部分工時薪資級距!$A$4:$N$243,6,0)) -> #N/A | M32: =IF($G32="","",VLOOKUP($G32,[3]部分工時薪資級距!$A$4:$N$243,7,0)*IF(VLOOKUP(A3,'[2]107學年'!$B$2:$G$3000,6,0)="外籍生","0",1)) -> #N/A | N32: =IF($G32="","",VLOOKUP($G32,[3]部分工時薪資級距!$A$4:$N$243,9,0)) -> #N/A | O32: =IF($G32="","",VLOOKUP($G32,[3]部分工時薪資級距!$A$4:$N$243,10,0)) -> #N/A | P32: =IF(AND(N32="",O32=""),"",SUM(L32:O32)) -> #N/A | Q32: =IF($G32="","",VLOOKUP($G32,[3]部分工時薪資級距!$A$4:$N$243,12,0)*IF(VLOOKUP(A3,'[2]107學年'!$B$2:$G$3000,6,0)="外籍生","0",1)) -> #N/A | R32: =IF(AND(P32="",Q32=""),"",P32+Q32) -> #N/A | S32: =IF(C32=0,"",IF(LEFT(VLOOKUP($A$3,'[2]107學年'!$B$2:$G$4000,6,0),1)="重","0",IF(LEFT(VLOOKUP($A$3,'[2]107學年'!$B$2:$G$4000,6,0),1)="中","0.5",IF(LEFT(VLOOKUP($A$3,'[2]107學年'!$B$2:$G$4000,6,0),1)="輕","0.75",1)))) -> #N/A | T32: 24 | U32: =IF(E32="","",SUM(C32:C$41,0)-SUM(U33:U$41)) -> #N/A
A33: 23 | B33: =IF(ISNA(VLOOKUP(VALUE($A$1&A33),[2]日曆!$A$2:$E$335,5,0)),"",VLOOKUP(VALUE($A$1&A33),[2]日曆!$A$2:$E$335,5,0)) -> 二 | C33: =VLOOKUP($A$3,'[1]03-工讀時數表'!$A$6:$AG$1000,$T33,0) -> #N/A | D33: =IF(VLOOKUP($A$3,'[1]04-工讀日數'!$A$6:$AG$1000,$T33,0)>1,1,VLOOKUP($A$3,'[1]04-工讀日數'!$A$6:$AG$1000,$T33,0)) -> #N/A | E33: =VLOOKUP($A$3,'[1]05-連續工讀累計'!$A$6:$AK$150,$T33,0) -> #N/A | F33: =IF(AND((D32-D33)=-1,(D33-D34)=1),"加退保",IF((D33-D34)=1,"退保",IF((D32-D33)=-1,"加保",""))) -> #N/A | G33: =IF(U33="","",ROUNDUP((U33/E33),0)&"-"&E33) -> #N/A | H33: =IF(E33="","",VLOOKUP(G33,[3]部分工時薪資級距!$A$4:$N$243,14,0)) -> #N/A | I33: =IF($G33="","",VLOOKUP($G33,[3]部分工時薪資級距!$A$4:$N$243,3,0)*S33) -> #N/A | J33: =IF($G33="","",VLOOKUP($G33,[3]部分工時薪資級距!$A$4:$N$243,4,0)*IF(VLOOKUP($A$3,'[2]107學年'!$B$2:$G$3000,6,0)="外籍生","0",S33)) -> #N/A | K33: =IF($G33="","",ROUNDUP((VLOOKUP($G33,[3]部分工時薪資級距!$A$4:$N$243,5,0)*S33),0)) -> #N/A | L33: =IF($G33="","",VLOOKUP($G33,[3]部分工時薪資級距!$A$4:$N$243,6,0)) -> #N/A | M33: =IF($G33="","",VLOOKUP($G33,[3]部分工時薪資級距!$A$4:$N$243,7,0)*IF(VLOOKUP(A3,'[2]107學年'!$B$2:$G$3000,6,0)="外籍生","0",1)) -> #N/A | N33: =IF($G33="","",VLOOKUP($G33,[3]部分工時薪資級距!$A$4:$N$243,9,0)) -> #N/A | O33: =IF($G33="","",VLOOKUP($G33,[3]部分工時薪資級距!$A$4:$N$243,10,0)) -> #N/A | P33: =IF(AND(N33="",O33=""),"",SUM(L33:O33)) -> #N/A | Q33: =IF($G33="","",VLOOKUP($G33,[3]部分工時薪資級距!$A$4:$N$243,12,0)*IF(VLOOKUP(A3,'[2]107學年'!$B$2:$G$3000,6,0)="外籍生","0",1)) -> #N/A | R33: =IF(AND(P33="",Q33=""),"",P33+Q33) -> #N/A | S33: =IF(C33=0,"",IF(LEFT(VLOOKUP($A$3,'[2]107學年'!$B$2:$G$4000,6,0),1)="重","0",IF(LEFT(VLOOKUP($A$3,'[2]107學年'!$B$2:$G$4000,6,0),1)="中","0.5",IF(LEFT(VLOOKUP($A$3,'[2]107學年'!$B$2:$G$4000,6,0),1)="輕","0.75",1)))) -> #N/A | T33: 25 | U33: =IF(E33="","",SUM(C33:C$41,0)-SUM(U34:U$41)) -> #N/A
A34: 24 | B34: =IF(ISNA(VLOOKUP(VALUE($A$1&A34),[2]日曆!$A$2:$E$335,5,0)),"",VLOOKUP(VALUE($A$1&A34),[2]日曆!$A$2:$E$335,5,0)) -> 三 | C34: =VLOOKUP($A$3,'[1]03-工讀時數表'!$A$6:$AG$1000,$T34,0) -> #N/A | D34: =IF(VLOOKUP($A$3,'[1]04-工讀日數'!$A$6:$AG$1000,$T34,0)>1,1,VLOOKUP($A$3,'[1]04-工讀日數'!$A$6:$AG$1000,$T34,0)) -> #N/A | E34: =VLOOKUP($A$3,'[1]05-連續工讀累計'!$A$6:$AK$150,$T34,0) -> #N/A | F34: =IF(AND((D33-D34)=-1,(D34-D35)=1),"加退保",IF((D34-D35)=1,"退保",IF((D33-D34)=-1,"加保",""))) -> #N/A | G34: =IF(U34="","",ROUNDUP((U34/E34),0)&"-"&E34) -> #N/A | H34: =IF(E34="","",VLOOKUP(G34,[3]部分工時薪資級距!$A$4:$N$243,14,0)) -> #N/A | I34: =IF($G34="","",VLOOKUP($G34,[3]部分工時薪資級距!$A$4:$N$243,3,0)*S34) -> #N/A | J34: =IF($G34="","",VLOOKUP($G34,[3]部分工時薪資級距!$A$4:$N$243,4,0)*IF(VLOOKUP($A$3,'[2]107學年'!$B$2:$G$3000,6,0)="外籍生","0",S34)) -> #N/A | K34: =IF($G34="","",ROUNDUP((VLOOKUP($G34,[3]部分工時薪資級距!$A$4:$N$243,5,0)*S34),0)) -> #N/A | L34: =IF($G34="","",VLOOKUP($G34,[3]部分工時薪資級距!$A$4:$N$243,6,0)) -> #N/A | M34: =IF($G34="","",VLOOKUP($G34,[3]部分工時薪資級距!$A$4:$N$243,7,0)*IF(VLOOKUP(A3,'[2]107學年'!$B$2:$G$3000,6,0)="外籍生","0",1)) -> #N/A | N34: =IF($G34="","",VLOOKUP($G34,[3]部分工時薪資級距!$A$4:$N$243,9,0)) -> #N/A | O34: =IF($G34="","",VLOOKUP($G34,[3]部分工時薪資級距!$A$4:$N$243,10,0)) -> #N/A | P34: =IF(AND(N34="",O34=""),"",SUM(L34:O34)) -> #N/A | Q34: =IF($G34="","",VLOOKUP($G34,[3]部分工時薪資級距!$A$4:$N$243,12,0)*IF(VLOOKUP(A3,'[2]107學年'!$B$2:$G$3000,6,0)="外籍生","0",1)) -> #N/A | R34: =IF(AND(P34="",Q34=""),"",P34+Q34) -> #N/A | S34: =IF(C34=0,"",IF(LEFT(VLOOKUP($A$3,'[2]107學年'!$B$2:$G$4000,6,0),1)="重","0",IF(LEFT(VLOOKUP($A$3,'[2]107學年'!$B$2:$G$4000,6,0),1)="中","0.5",IF(LEFT(VLOOKUP($A$3,'[2]107學年'!$B$2:$G$4000,6,0),1)="輕","0.75",1)))) -> #N/A | T34: 26 | U34: =IF(E34="","",SUM(C34:C$41,0)-SUM(U35:U$41)) -> #N/A
A35: 25 | B35: =IF(ISNA(VLOOKUP(VALUE($A$1&A35),[2]日曆!$A$2:$E$335,5,0)),"",VLOOKUP(VALUE($A$1&A35),[2]日曆!$A$2:$E$335,5,0)) -> 四 | C35: =VLOOKUP($A$3,'[1]03-工讀時數表'!$A$6:$AG$1000,$T35,0) -> #N/A | D35: =IF(VLOOKUP($A$3,'[1]04-工讀日數'!$A$6:$AG$1000,$T35,0)>1,1,VLOOKUP($A$3,'[1]04-工讀日數'!$A$6:$AG$1000,$T35,0)) -> #N/A | E35: =VLOOKUP($A$3,'[1]05-連續工讀累計'!$A$6:$AK$150,$T35,0) -> #N/A | F35: =IF(AND((D34-D35)=-1,(D35-D36)=1),"加退保",IF((D35-D36)=1,"退保",IF((D34-D35)=-1,"加保",""))) -> #N/A | G35: =IF(U35="","",ROUNDUP((U35/E35),0)&"-"&E35) -> #N/A | H35: =IF(E35="","",VLOOKUP(G35,[3]部分工時薪資級距!$A$4:$N$243,14,0)) -> #N/A | I35: =IF($G35="","",VLOOKUP($G35,[3]部分工時薪資級距!$A$4:$N$243,3,0)*S35) -> #N/A | J35: =IF($G35="","",VLOOKUP($G35,[3]部分工時薪資級距!$A$4:$N$243,4,0)*IF(VLOOKUP($A$3,'[2]107學年'!$B$2:$G$3000,6,0)="外籍生","0",S35)) -> #N/A | K35: =IF($G35="","",ROUNDUP((VLOOKUP($G35,[3]部分工時薪資級距!$A$4:$N$243,5,0)*S35),0)) -> #N/A | L35: =IF($G35="","",VLOOKUP($G35,[3]部分工時薪資級距!$A$4:$N$243,6,0)) -> #N/A | M35: =IF($G35="","",VLOOKUP($G35,[3]部分工時薪資級距!$A$4:$N$243,7,0)*IF(VLOOKUP(A3,'[2]107學年'!$B$2:$G$3000,6,0)="外籍生","0",1)) -> #N/A | N35: =IF($G35="","",VLOOKUP($G35,[3]部分工時薪資級距!$A$4:$N$243,9,0)) -> #N/A | O35: =IF($G35="","",VLOOKUP($G35,[3]部分工時薪資級距!$A$4:$N$243,10,0)) -> #N/A | P35: =IF(AND(N35="",O35=""),"",SUM(L35:O35)) -> #N/A | Q35: =IF($G35="","",VLOOKUP($G35,[3]部分工時薪資級距!$A$4:$N$243,12,0)*IF(VLOOKUP(A3,'[2]107學年'!$B$2:$G$3000,6,0)="外籍生","0",1)) -> #N/A | R35: =IF(AND(P35="",Q35=""),"",P35+Q35) -> #N/A | S35: =IF(C35=0,"",IF(LEFT(VLOOKUP($A$3,'[2]107學年'!$B$2:$G$4000,6,0),1)="重","0",IF(LEFT(VLOOKUP($A$3,'[2]107學年'!$B$2:$G$4000,6,0),1)="中","0.5",IF(LEFT(VLOOKUP($A$3,'[2]107學年'!$B$2:$G$4000,6,0),1)="輕","0.75",1)))) -> #N/A | T35: 27 | U35: =IF(E35="","",SUM(C35:C$41,0)-SUM(U36:U$41)) -> #N/A
A36: 26 | B36: =IF(ISNA(VLOOKUP(VALUE($A$1&A36),[2]日曆!$A$2:$E$335,5,0)),"",VLOOKUP(VALUE($A$1&A36),[2]日曆!$A$2:$E$335,5,0)) -> 五 | C36: =VLOOKUP($A$3,'[1]03-工讀時數表'!$A$6:$AG$1000,$T36,0) -> #N/A | D36: =IF(VLOOKUP($A$3,'[1]04-工讀日數'!$A$6:$AG$1000,$T36,0)>1,1,VLOOKUP($A$3,'[1]04-工讀日數'!$A$6:$AG$1000,$T36,0)) -> #N/A | E36: =VLOOKUP($A$3,'[1]05-連續工讀累計'!$A$6:$AK$150,$T36,0) -> #N/A | F36: =IF(AND((D35-D36)=-1,(D36-D37)=1),"加退保",IF((D36-D37)=1,"退保",IF((D35-D36)=-1,"加保",""))) -> #N/A | G36: =IF(U36="","",ROUNDUP((U36/E36),0)&"-"&E36) -> #N/A | H36: =IF(E36="","",VLOOKUP(G36,[3]部分工時薪資級距!$A$4:$N$243,14,0)) -> #N/A | I36: =IF($G36="","",VLOOKUP($G36,[3]部分工時薪資級距!$A$4:$N$243,3,0)*S36) -> #N/A | J36: =IF($G36="","",VLOOKUP($G36,[3]部分工時薪資級距!$A$4:$N$243,4,0)*IF(VLOOKUP($A$3,'[2]107學年'!$B$2:$G$3000,6,0)="外籍生","0",S36)) -> #N/A | K36: =IF($G36="","",ROUNDUP((VLOOKUP($G36,[3]部分工時薪資級距!$A$4:$N$243,5,0)*S36),0)) -> #N/A | L36: =IF($G36="","",VLOOKUP($G36,[3]部分工時薪資級距!$A$4:$N$243,6,0)) -> #N/A | M36: =IF($G36="","",VLOOKUP($G36,[3]部分工時薪資級距!$A$4:$N$243,7,0)*IF(VLOOKUP(A3,'[2]107學年'!$B$2:$G$3000,6,0)="外籍生","0",1)) -> #N/A | N36: =IF($G36="","",VLOOKUP($G36,[3]部分工時薪資級距!$A$4:$N$243,9,0)) -> #N/A | O36: =IF($G36="","",VLOOKUP($G36,[3]部分工時薪資級距!$A$4:$N$243,10,0)) -> #N/A | P36: =IF(AND(N36="",O36=""),"",SUM(L36:O36)) -> #N/A | Q36: =IF($G36="","",VLOOKUP($G36,[3]部分工時薪資級距!$A$4:$N$243,12,0)*IF(VLOOKUP(A3,'[2]107學年'!$B$2:$G$3000,6,0)="外籍生","0",1)) -> #N/A | R36: =IF(AND(P36="",Q36=""),"",P36+Q36) -> #N/A | S36: =IF(C36=0,"",IF(LEFT(VLOOKUP($A$3,'[2]107學年'!$B$2:$G$4000,6,0),1)="重","0",IF(LEFT(VLOOKUP($A$3,'[2]107學年'!$B$2:$G$4000,6,0),1)="中","0.5",IF(LEFT(VLOOKUP($A$3,'[2]107學年'!$B$2:$G$4000,6,0),1)="輕","0.75",1)))) -> #N/A | T36: 28 | U36: =IF(E36="","",SUM(C36:C$41,0)-SUM(U37:U$41)) -> #N/A
A37: 27 | B37: =IF(ISNA(VLOOKUP(VALUE($A$1&A37),[2]日曆!$A$2:$E$335,5,0)),"",VLOOKUP(VALUE($A$1&A37),[2]日曆!$A$2:$E$335,5,0)) -> 六 | C37: =VLOOKUP($A$3,'[1]03-工讀時數表'!$A$6:$AG$1000,$T37,0) -> #N/A | D37: =IF(VLOOKUP($A$3,'[1]04-工讀日數'!$A$6:$AG$1000,$T37,0)>1,1,VLOOKUP($A$3,'[1]04-工讀日數'!$A$6:$AG$1000,$T37,0)) -> #N/A | E37: =VLOOKUP($A$3,'[1]05-連續工讀累計'!$A$6:$AK$150,$T37,0) -> #N/A | F37: =IF(AND((D36-D37)=-1,(D37-D38)=1),"加退保",IF((D37-D38)=1,"退保",IF((D36-D37)=-1,"加保",""))) -> #N/A | G37: =IF(U37="","",ROUNDUP((U37/E37),0)&"-"&E37) -> #N/A | H37: =IF(E37="","",VLOOKUP(G37,[3]部分工時薪資級距!$A$4:$N$243,14,0)) -> #N/A | I37: =IF($G37="","",VLOOKUP($G37,[3]部分工時薪資級距!$A$4:$N$243,3,0)*S37) -> #N/A | J37: =IF($G37="","",VLOOKUP($G37,[3]部分工時薪資級距!$A$4:$N$243,4,0)*IF(VLOOKUP($A$3,'[2]107學年'!$B$2:$G$3000,6,0)="外籍生","0",S37)) -> #N/A | K37: =IF($G37="","",ROUNDUP((VLOOKUP($G37,[3]部分工時薪資級距!$A$4:$N$243,5,0)*S37),0)) -> #N/A | L37: =IF($G37="","",VLOOKUP($G37,[3]部分工時薪資級距!$A$4:$N$243,6,0)) -> #N/A | M37: =IF($G37="","",VLOOKUP($G37,[3]部分工時薪資級距!$A$4:$N$243,7,0)*IF(VLOOKUP(A3,'[2]107學年'!$B$2:$G$3000,6,0)="外籍生","0",1)) -> #N/A | N37: =IF($G37="","",VLOOKUP($G37,[3]部分工時薪資級距!$A$4:$N$243,9,0)) -> #N/A | O37: =IF($G37="","",VLOOKUP($G37,[3]部分工時薪資級距!$A$4:$N$243,10,0)) -> #N/A | P37: =IF(AND(N37="",O37=""),"",SUM(L37:O37)) -> #N/A | Q37: =IF($G37="","",VLOOKUP($G37,[3]部分工時薪資級距!$A$4:$N$243,12,0)*IF(VLOOKUP(A3,'[2]107學年'!$B$2:$G$3000,6,0)="外籍生","0",1)) -> #N/A | R37: =IF(AND(P37="",Q37=""),"",P37+Q37) -> #N/A | S37: =IF(C37=0,"",IF(LEFT(VLOOKUP($A$3,'[2]107學年'!$B$2:$G$4000,6,0),1)="重","0",IF(LEFT(VLOOKUP($A$3,'[2]107學年'!$B$2:$G$4000,6,0),1)="中","0.5",IF(LEFT(VLOOKUP($A$3,'[2]107學年'!$B$2:$G$4000,6,0),1)="輕","0.75",1)))) -> #N/A | T37: 29 | U37: =IF(E37="","",SUM(C37:C$41,0)-SUM(U38:U$41)) -> #N/A
A38: 28 | B38: =IF(ISNA(VLOOKUP(VALUE($A$1&A38),[2]日曆!$A$2:$E$335,5,0)),"",VLOOKUP(VALUE($A$1&A38),[2]日曆!$A$2:$E$335,5,0)) -> 日 | C38: =VLOOKUP($A$3,'[1]03-工讀時數表'!$A$6:$AG$1000,$T38,0) -> #N/A | D38: =IF(VLOOKUP($A$3,'[1]04-工讀日數'!$A$6:$AG$1000,$T38,0)>1,1,VLOOKUP($A$3,'[1]04-工讀日數'!$A$6:$AG$1000,$T38,0)) -> #N/A | E38: =VLOOKUP($A$3,'[1]05-連續工讀累計'!$A$6:$AK$150,$T38,0) -> #N/A | F38: =IF(AND((D37-D38)=-1,(D38-D39)=1),"加退保",IF((D38-D39)=1,"退保",IF((D37-D38)=-1,"加保",""))) -> #N/A | G38: =IF(U38="","",ROUNDUP((U38/E38),0)&"-"&E38) -> #N/A | H38: =IF(E38="","",VLOOKUP(G38,[3]部分工時薪資級距!$A$4:$N$243,14,0)) -> #N/A | I38: =IF($G38="","",VLOOKUP($G38,[3]部分工時薪資級距!$A$4:$N$243,3,0)*S38) -> #N/A | J38: =IF($G38="","",VLOOKUP($G38,[3]部分工時薪資級距!$A$4:$N$243,4,0)*IF(VLOOKUP($A$3,'[2]107學年'!$B$2:$G$3000,6,0)="外籍生","0",S38)) -> #N/A | K38: =IF($G38="","",ROUNDUP((VLOOKUP($G38,[3]部分工時薪資級距!$A$4:$N$243,5,0)*S38),0)) -> #N/A | L38: =IF($G38="","",VLOOKUP($G38,[3]部分工時薪資級距!$A$4:$N$243,6,0)) -> #N/A | M38: =IF($G38="","",VLOOKUP($G38,[3]部分工時薪資級距!$A$4:$N$243,7,0)*IF(VLOOKUP(A3,'[2]107學年'!$B$2:$G$3000,6,0)="外籍生","0",1)) -> #N/A | N38: =IF($G38="","",VLOOKUP($G38,[3]部分工時薪資級距!$A$4:$N$243,9,0)) -> #N/A | O38: =IF($G38="","",VLOOKUP($G38,[3]部分工時薪資級距!$A$4:$N$243,10,0)) -> #N/A | P38: =IF(AND(N38="",O38=""),"",SUM(L38:O38)) -> #N/A | Q38: =IF($G38="","",VLOOKUP($G38,[3]部分工時薪資級距!$A$4:$N$243,12,0)*IF(VLOOKUP(A3,'[2]107學年'!$B$2:$G$3000,6,0)="外籍生","0",1)) -> #N/A | R38: =IF(AND(P38="",Q38=""),"",P38+Q38) -> #N/A | S38: =IF(C38=0,"",IF(LEFT(VLOOKUP($A$3,'[2]107學年'!$B$2:$G$4000,6,0),1)="重","0",IF(LEFT(VLOOKUP($A$3,'[2]107學年'!$B$2:$G$4000,6,0),1)="中","0.5",IF(LEFT(VLOOKUP($A$3,'[2]107學年'!$B$2:$G$4000,6,0),1)="輕","0.75",1)))) -> #N/A | T38: 30 | U38: =IF(E38="","",SUM(C38:C$41,0)-SUM(U39:U$41)) -> #N/A
A39: 29 | B39: =IF(ISNA(VLOOKUP(VALUE($A$1&A39),[2]日曆!$A$2:$E$335,5,0)),"",VLOOKUP(VALUE($A$1&A39),[2]日曆!$A$2:$E$335,5,0)) -> 一 | C39: =VLOOKUP($A$3,'[1]03-工讀時數表'!$A$6:$AG$1000,$T39,0) -> #N/A | D39: =IF(VLOOKUP($A$3,'[1]04-工讀日數'!$A$6:$AG$1000,$T39,0)>1,1,VLOOKUP($A$3,'[1]04-工讀日數'!$A$6:$AG$1000,$T39,0)) -> #N/A | E39: =VLOOKUP($A$3,'[1]05-連續工讀累計'!$A$6:$AK$150,$T39,0) -> #N/A | F39: =IF(AND((D38-D39)=-1,(D39-D40)=1),"加退保",IF((D39-D40)=1,"退保",IF((D38-D39)=-1,"加保",""))) -> #N/A | G39: =IF(U39="","",ROUNDUP((U39/E39),0)&"-"&E39) -> #N/A | H39: =IF(E39="","",VLOOKUP(G39,[3]部分工時薪資級距!$A$4:$N$243,14,0)) -> #N/A | I39: =IF($G39="","",VLOOKUP($G39,[3]部分工時薪資級距!$A$4:$N$243,3,0)*S39) -> #N/A | J39: =IF($G39="","",VLOOKUP($G39,[3]部分工時薪資級距!$A$4:$N$243,4,0)*IF(VLOOKUP($A$3,'[2]107學年'!$B$2:$G$3000,6,0)="外籍生","0",S39)) -> #N/A | K39: =IF($G39="","",ROUNDUP((VLOOKUP($G39,[3]部分工時薪資級距!$A$4:$N$243,5,0)*S39),0)) -> #N/A | L39: =IF($G39="","",VLOOKUP($G39,[3]部分工時薪資級距!$A$4:$N$243,6,0)) -> #N/A | M39: =IF($G39="","",VLOOKUP($G39,[3]部分工時薪資級距!$A$4:$N$243,7,0)*IF(VLOOKUP(A3,'[2]107學年'!$B$2:$G$3000,6,0)="外籍生","0",1)) -> #N/A | N39: =IF($G39="","",VLOOKUP($G39,[3]部分工時薪資級距!$A$4:$N$243,9,0)) -> #N/A | O39: =IF($G39="","",VLOOKUP($G39,[3]部分工時薪資級距!$A$4:$N$243,10,0)) -> #N/A | P39: =IF(AND(N39="",O39=""),"",SUM(L39:O39)) -> #N/A | Q39: =IF($G39="","",VLOOKUP($G39,[3]部分工時薪資級距!$A$4:$N$243,12,0)*IF(VLOOKUP(A3,'[2]107學年'!$B$2:$G$3000,6,0)="外籍生","0",1)) -> #N/A | R39: =IF(AND(P39="",Q39=""),"",P39+Q39) -> #N/A | S39: =IF(C39=0,"",IF(LEFT(VLOOKUP($A$3,'[2]107學年'!$B$2:$G$4000,6,0),1)="重","0",IF(LEFT(VLOOKUP($A$3,'[2]107學年'!$B$2:$G$4000,6,0),1)="中","0.5",IF(LEFT(VLOOKUP($A$3,'[2]107學年'!$B$2:$G$4000,6,0),1)="輕","0.75",1)))) -> #N/A | T39: 31 | U39: =IF(E39="","",SUM(C39:C$41,0)-SUM(U40:U$41)) -> #N/A
A40: 30 | B40: =IF(ISNA(VLOOKUP(VALUE($A$1&A40),[2]日曆!$A$2:$E$335,5,0)),"",VLOOKUP(VALUE($A$1&A40),[2]日曆!$A$2:$E$335,5,0)) -> 二 | C40: =VLOOKUP($A$3,'[1]03-工讀時數表'!$A$6:$AG$1000,$T40,0) -> #N/A | D40: =IF(VLOOKUP($A$3,'[1]04-工讀日數'!$A$6:$AG$1000,$T40,0)>1,1,VLOOKUP($A$3,'[1]04-工讀日數'!$A$6:$AG$1000,$T40,0)) -> #N/A | E40: =VLOOKUP($A$3,'[1]05-連續工讀累計'!$A$6:$AK$150,$T40,0) -> #N/A | F40: =IF(AND((D39-D40)=-1,(D40-D41)=1),"加退保",IF((D40-D41)=1,"退保",IF((D39-D40)=-1,"加保",""))) -> #N/A | G40: =IF(U40="","",ROUNDUP((U40/E40),0)&"-"&E40) -> #N/A | H40: =IF(E40="","",VLOOKUP(G40,[3]部分工時薪資級距!$A$4:$N$243,14,0)) -> #N/A | I40: =IF($G40="","",VLOOKUP($G40,[3]部分工時薪資級距!$A$4:$N$243,3,0)*S40) -> #N/A | J40: =IF($G40="","",VLOOKUP($G40,[3]部分工時薪資級距!$A$4:$N$243,4,0)*IF(VLOOKUP($A$3,'[2]107學年'!$B$2:$G$3000,6,0)="外籍生","0",S40)) -> #N/A | K40: =IF($G40="","",ROUNDUP((VLOOKUP($G40,[3]部分工時薪資級距!$A$4:$N$243,5,0)*S40),0)) -> #N/A | L40: =IF($G40="","",VLOOKUP($G40,[3]部分工時薪資級距!$A$4:$N$243,6,0)) -> #N/A | M40: =IF($G40="","",VLOOKUP($G40,[3]部分工時薪資級距!$A$4:$N$243,7,0)*IF(VLOOKUP(A3,'[2]107學年'!$B$2:$G$3000,6,0)="外籍生","0",1)) -> #N/A | N40: =IF($G40="","",VLOOKUP($G40,[3]部分工時薪資級距!$A$4:$N$243,9,0)) -> #N/A | O40: =IF($G40="","",VLOOKUP($G40,[3]部分工時薪資級距!$A$4:$N$243,10,0)) -> #N/A | P40: =IF(AND(N40="",O40=""),"",SUM(L40:O40)) -> #N/A | Q40: =IF($G40="","",VLOOKUP($G40,[3]部分工時薪資級距!$A$4:$N$243,12,0)*IF(VLOOKUP(A3,'[2]107學年'!$B$2:$G$3000,6,0)="外籍生","0",1)) -> #N/A | R40: =IF(AND(P40="",Q40=""),"",P40+Q40) -> #N/A | S40: =IF(C40=0,"",IF(LEFT(VLOOKUP($A$3,'[2]107學年'!$B$2:$G$4000,6,0),1)="重","0",IF(LEFT(VLOOKUP($A$3,'[2]107學年'!$B$2:$G$4000,6,0),1)="中","0.5",IF(LEFT(VLOOKUP($A$3,'[2]107學年'!$B$2:$G$4000,6,0),1)="輕","0.75",1)))) -> #N/A | T40: 32 | U40: =IF(E40="","",SUM(C40:C$41,0)-SUM(U41:U$41)) -> #N/A
A41: 31 | B41: =IF(ISNA(VLOOKUP(VALUE($A$1&A41),[2]日曆!$A$2:$E$335,5,0)),"",VLOOKUP(VALUE($A$1&A41),[2]日曆!$A$2:$E$335,5,0)) | C41: =VLOOKUP($A$3,'[1]03-工讀時數表'!$A$6:$AG$1000,$T41,0) -> #N/A | D41: =IF(VLOOKUP($A$3,'[1]04-工讀日數'!$A$6:$AG$1000,$T41,0)>1,1,VLOOKUP($A$3,'[1]04-工讀日數'!$A$6:$AG$1000,$T41,0)) -> #N/A | E41: =VLOOKUP($A$3,'[1]05-連續工讀累計'!$A$6:$AK$150,$T41,0) -> #N/A | F41: =IF(AND((D40-D41)=-1,(D41-D42)=1),"加退保",IF((D41-D42)=1,"退保",IF((D40-D41)=-1,"加保",""))) -> #N/A | G41: =IF(U41="","",ROUNDUP((U41/E41),0)&"-"&E41) -> #N/A | H41: =IF(E41="","",VLOOKUP(G41,[3]部分工時薪資級距!$A$4:$N$243,14,0)) -> #N/A | I41: =IF($G41="","",VLOOKUP($G41,[3]部分工時薪資級距!$A$4:$N$243,3,0)*S41) -> #N/A | J41: =IF($G41="","",VLOOKUP($G41,[3]部分工時薪資級距!$A$4:$N$243,4,0)*IF(VLOOKUP($A$3,'[2]107學年'!$B$2:$G$3000,6,0)="外籍生","0",S41)) -> #N/A | K41: =IF($G41="","",ROUNDUP((VLOOKUP($G41,[3]部分工時薪資級距!$A$4:$N$243,5,0)*S41),0)) -> #N/A | L41: =IF($G41="","",VLOOKUP($G41,[3]部分工時薪資級距!$A$4:$N$243,6,0)) -> #N/A | M41: =IF($G41="","",VLOOKUP($G41,[3]部分工時薪資級距!$A$4:$N$243,7,0)*IF(VLOOKUP(A3,'[2]107學年'!$B$2:$G$3000,6,0)="外籍生","0",1)) -> #N/A | N41: =IF($G41="","",VLOOKUP($G41,[3]部分工時薪資級距!$A$4:$N$243,9,0)) -> #N/A | O41: =IF($G41="","",VLOOKUP($G41,[3]部分工時薪資級距!$A$4:$N$243,10,0)) -> #N/A | P41: =IF(AND(N41="",O41=""),"",SUM(L41:O41)) -> #N/A | Q41: =IF($G41="","",VLOOKUP($G41,[3]部分工時薪資級距!$A$4:$N$243,12,0)*IF(VLOOKUP(A3,'[2]107學年'!$B$2:$G$3000,6,0)="外籍生","0",1)) -> #N/A | R41: =IF(AND(P41="",Q41=""),"",P41+Q41) -> #N/A | S41: =IF(C41=0,"",IF(LEFT(VLOOKUP($A$3,'[2]107學年'!$B$2:$G$4000,6,0),1)="重","0",IF(LEFT(VLOOKUP($A$3,'[2]107學年'!$B$2:$G$4000,6,0),1)="中","0.5",IF(LEFT(VLOOKUP($A$3,'[2]107學年'!$B$2:$G$4000,6,0),1)="輕","0.75",1)))) -> #N/A | T41: 33 | U41: =IF(E41="","",SUM(C41:C$41,0)-SUM(U$41:U42)) -> #N/A
A42: 總計 | C42: =SUM(C11:C41) -> #N/A | D42: =SUM(D11:D41) -> #N/A | E42: =SUM(E11:E41) -> #N/A | K42: =SUM(K11:K41) -> #N/A | P42: =SUM(P11:P41) -> #N/A | Q42: =SUM(Q11:Q41) -> #N/A
K43: =G7 -> #N/A | P43: =M7 -> #N/A | Q43: =P7 -> #N/A

Sheet 試算【日保及月保比較】
A1: 計日(時數)投保及月投保試算比較
A2: 使用步驟 1.確認學生身分類別。 2.日保：填入時數、天數。 3.月保：填入連續工作日(含假日)、實際薪資。 範例：工讀生4月份已排班共60小時(自4/1~4/24止，每週一、三，工讀共8日，每日6-8小時)，實際薪資計9,000元，試算如下： 1.工讀生身分別為一般生：填【1】 2.日保：總時數【60】、總天數【8】 3.月保：連數天數【24】(4/1~4/24共24日)、實際薪資【9000】
A3: 身分類別 【請填代碼】 | C3: 1 | D3: 一般生及校外人士：【1】 外籍生：【外】 身障生重度：【0】 身障生中度：【0.5】 身障生輕度：【0.75】 | F3: ☆身障學生：勞保個人負擔享有減免。 ☆外籍生：免付【就業保險費】及【勞退費】。
A4: 姓名 | B4: 總時數 | C4: 總天數 | D4: 時/日 | E4: 投保級數 【每日時數：總天數】 | F4: 普通事故保險費 | G4: 就業保險費 | H4: 勞保個人負擔 | I4: 普通事故保險費 | J4: 就業保險費 | K4: 勞保小計 | L4: 職災 | M4: 工資墊償金 | N4: 勞保單位負擔 | O4: 勞退費 | P4: 雇主負擔 勞退合計 | Q4: 身分類別 | R4: 投保級數
A5: 日保 | B5: 64 | C5: 8 | D5: =ROUNDUP(B5/C5,0) -> 8 | E5: =D5&"-"&C5 -> 8-8 | F5: =VLOOKUP($E5,[3]部分工時薪資級距!$A$4:$N$243,3,0)*Q5 -> 225 | G5: =VLOOKUP($E5,[3]部分工時薪資級距!$A$4:$N$243,4,0)*IF($C$3="外","0",Q5) -> 21 | H5: =G5+F5 -> 246 | I5: =VLOOKUP($E5,[3]部分工時薪資級距!$A$4:$N$243,6,0) -> 786 | J5: =VLOOKUP($E5,[3]部分工時薪資級距!$A$4:$N$243,7,0)*IF($C$3="外","0",1) -> 75 | K5: =I5+J5 -> 861 | L5: =VLOOKUP($E5,[3]部分工時薪資級距!$A$4:$N$243,9,0) -> 11 | M5: =VLOOKUP($E5,[3]部分工時薪資級距!$A$4:$N$243,10,0) -> 3 | N5: =K5+L5+M5 -> 875 | O5: =VLOOKUP($E5,[3]部分工時薪資級距!$A$4:$N$243,12,0)*IF($C$3="外","0",1) -> 642 | P5: =N5+O5 -> 1517 | Q5: =IF($C$3="外","1",$C$3) -> 1 | R5: =VLOOKUP(D5,[3]部分工時薪資級距!$A$251:$B$258,2,0) -> 40100
A6: 月保 | C6: 10 | D6: 月薪資 實際薪資 | E6: =B5*160 -> 10240 | F6: =ROUNDUP((VLOOKUP($R6,'[3]實際薪資&月投保薪資級距表'!$A$4:$S$69,9,0)*Q6/30*C6),0) -> 78 | G6: =ROUNDUP((VLOOKUP($R6,'[3]實際薪資&月投保薪資級距表'!$A$4:$S$69,10,0)*IF($C$3="外","0",Q6)/30*C6),0) -> 8 | H6: =G6+F6 -> 86 | I6: =ROUNDUP((VLOOKUP($R6,'[3]實際薪資&月投保薪資級距表'!$A$4:$S$69,12,0)/30*C6),0) -> 272 | J6: =ROUNDUP((VLOOKUP($R6,'[3]實際薪資&月投保薪資級距表'!$A$4:$S$69,13,0)*IF($C$3="外","0",1)/30*C6),0) -> 26 | K6: =I6+J6 -> 298 | L6: =ROUNDUP((VLOOKUP($R6,'[3]實際薪資&月投保薪資級距表'!$A$4:$S$69,14,0)/30*C6),0) -> 4 | M6: =ROUNDUP((VLOOKUP($R6,'[3]實際薪資&月投保薪資級距表'!$A$4:$S$69,15,0)/30*C6),0) -> 1 | N6: =K6+L6+M6 -> 303 | O6: =ROUNDUP((VLOOKUP($R6,'[3]實際薪資&月投保薪資級距表'!$A$4:$S$69,19,0)*IF($C$3="外","0",1)/30*C6),0) -> 222 | P6: =N6+O6 -> 525 | Q6: =IF($C$3="外","1",$C$3) -> 1 | R6: =IF( AND(E6>='[3]實際薪資&月投保薪資級距表'!$D$4,E6<='[3]實際薪資&月投保薪資級距表'!$E$4),'[3]實際薪資&月投保薪資級距表'!$A$4, IF(AND(E6>='[3]實際薪資&月投保薪資級距表'!$D$5,E6<='[3]實際薪資&月投保薪資級距表'!$E$5),'[3]實際薪資&月投保薪資級距表'!$A$5, IF(AND(E6>='[3]實際薪資&月投保薪資級距表'!$D$6,E6<='[3]實際薪資&月投保薪資級距表'!$E$6),'[3]實際薪資&月投保薪資級距表'!$A$6, IF(AND(E6>='[3]實際薪資&月投保薪資級距表'!$D$7,E6<='[3]實際薪資&月投保薪資級距表'!$E$7),'[3]實際薪資&月投保薪資級距表'!$A$7, IF(AND(E6>='[3]實際薪資&月投保薪資級距表'!$D$8,E6<='[3]實際薪資&月投保薪資級距表'!$E$8),'[3]實際薪資&月投保薪資級距表'!$A$8, IF(AND(E6>='[3]實際薪資&月投保薪資級距表'!$D$9,E6<='[3]實際薪資&月投保薪資級距表'!$E$9),'[3]實際薪資&月投保薪資級距表'!$A$9, IF(AND(E6>='[3]實際薪資&月投保薪資級距表'!$D$10,E6<='[3]實際薪資&月投保薪資級距表'!$E$10),'[3]實際薪資&月投保薪資級距表'!$A$10, IF(AND(E6>='[3]實際薪資&月投保薪資級距表'!$D$11,E6<='[3]實際薪資&月投保薪資級距表'!$E$11),'[3]實際薪資&月投保薪資級距表'!$A$11, IF(AND(E6>='[3]實際薪資&月投保薪資級距表'!$D$12,E6<='[3]實際薪資&月投保薪資級距表'!$E$12),'[3]實際薪資&月投保薪資級距表'!$A$12, IF(AND(E6>='[3]實際薪資&月投保薪資級距表'!$D$13,E6<='[3]實際薪資&月投保薪資級距表'!$E$13),'[3]實際薪資&月投保薪資級距表'!$A$13, IF(AND(E6>='[3]實際薪資&月投保薪資級距表'!$D$14,E6<='[3]實際薪資&月投保薪資級距表'!$E$14),'[3]實際薪資&月投保薪資級距表'!$A$14, IF(AND(E6>='[3]實際薪資&月投保薪資級距表'!$D$15,E6<='[3]實際薪資&月投保薪資級距表'!$E$15),'[3]實際薪資&月投保薪資級距表'!$A$15, IF(AND(E6>='[3]實際薪資&月投保薪資級距表'!$D$16,E6<='[3]實際薪資&月投保薪資級距表'!$E$16),'[3]實際薪資&月投保薪資級距表'!$A$16, IF(AND(E6>='[3]實際薪資&月投保薪資級距表'!$D$17,E6<='[3]實際薪資&月投保薪資級距表'!$E$17),'[3]實際薪資&月投保薪資級距表'!$A$17, IF(AND(E6>='[3]實際薪資&月投保薪資級距表'!$D$18,E6<='[3]實際薪資&月投保薪資級距表'!$E$18),'[3]實際薪資&月投保薪資級距表'!$A$18, IF(AND(E6>='[3]實際薪資&月投保薪資級距表'!$D$19,E6<='[3]實際薪資&月投保薪資級距表'!$E$19),'[3]實際薪資&月投保薪資級距表'!$A$19, IF(AND(E6>='[3]實際薪資&月投保薪資級距表'!$D$20,E6<='[3]實際薪資&月投保薪資級距表'!$E$20),'[3]實際薪資&月投保薪資級距表'!$A$20, IF(AND(E6>='[3]實際薪資&月投保薪資級距表'!$D$21,E6<='[3]實際薪資&月投保薪資級距表'!$E$21),'[3]實際薪資&月投保薪資級距表'!$A$21, IF(AND(E6>='[3]實際薪資&月投保薪資級距表'!$D$22,E6<='[3]實際薪資&月投保薪資級距表'!$E$22),'[3]實際薪資&月投保薪資級距表'!$A$22, IF(AND(E6>='[3]實際薪資&月投保薪資級距表'!$D$23,E6<='[3]實際薪資&月投保薪資級距表'!$E$23),'[3]實際薪資&月投保薪資級距表'!$A$23, IF(AND(E6>='[3]實際薪資&月投保薪資級距表'!$D$24,E6<='[3]實際薪資&月投保薪資級距表'!$E$24),'[3]實際薪資&月投保薪資級距表'!$A$24, IF(AND(E6>='[3]實際薪資&月投保薪資級距表'!$D$25,E6<='[3]實際薪資&月投保薪資級距表'!$E$25),'[3]實際薪資&月投保薪資級距表'!$A$25, IF(AND(E6>='[3]實際薪資&月投保薪資級距表'!$D$26,E6<='[3]實際薪資&月投保薪資級距表'!$E$26),'[3]實際薪資&月投保薪資級距表'!$A$26, IF(AND(E6>='[3]實際薪資&月投保薪資級距表'!$D$27,E6<='[3]實際薪資&月投保薪資級距表'!$E$27),'[3]實際薪資&月投保薪資級距表'!$A$27, IF(AND(E6>='[3]實際薪資&月投保薪資級距表'!$D$28,E6<='[3]實際薪資&月投保薪資級距表'!$E$28),'[3]實際薪資&月投保薪資級距表'!$A$28, IF(AND(E6>='[3]實際薪資&月投保薪資級距表'!$D$29,E6<='[3]實際薪資&月投保薪資級距表'!$E$29),'[3]實際薪資&月投保薪資級距表'!$A$29, IF(AND(E6>='[3]實際薪資&月投保薪資級距表'!$D$30,E6<='[3]實際薪資&月投保薪資級距表'!$E$30),'[3]實際薪資&月投保薪資級距表'!$A$30, IF(AND(E6>='[3]實際薪資&月投保薪資級距表'!$D$31,E6<='[3]實際薪資&月投保薪資級距表'!$E$31),'[3]實際薪資&月投保薪資級距表'!$A$31, IF(AND(E6>='[3]實際薪資&月投保薪資級距表'!$D$32,E6<='[3]實際薪資&月投保薪資級距表'!$E$32),'[3]實際薪資&月投保薪資級距表'!$A$32, IF(AND(E6>='[3]實際薪資&月投保薪資級距表'!$D$33,E6<='[3]實際薪資&月投保薪資級距表'!$E$33),'[3]實際薪資&月投保薪資級距表'!$A$33, IF(AND(E6>='[3]實際薪資&月投保薪資級距表'!$D$34,E6<='[3]實際薪資&月投保薪資級距表'!$E$34),'[3]實際薪資&月投保薪資級距表'!$A$34, IF(AND(E6>='[3]實際薪資&月投保薪資級距表'!$D$35,E6<='[3]實際薪資&月投保薪資級距表'!$E$36),'[3]實際薪資&月投保薪資級距表'!$A$356, IF(AND(E6>='[3]實際薪資&月投保薪資級距表'!$D$36,E6<='[3]實際薪資&月投保薪資級距表'!$E$36,$A$26),E6))))))))))))))))))))))))))))))))) -> 8

Sheet 日曆
A1: 日期 | B1: 年 | C1: 月 | D1: 日 | E1: 星期
A2: 1070901 | B2: 107 | C2: 9 | D2: 1 | E2: 六
A3: 1070902 | B3: 107 | C3: 9 | D3: 2 | E3: 日
A4: 1070903 | B4: 107 | C4: 9 | D4: 3 | E4: 一
A5: 1070904 | B5: 107 | C5: 9 | D5: 4 | E5: 二
A6: 1070905 | B6: 107 | C6: 9 | D6: 5 | E6: 三
A7: 1070906 | B7: 107 | C7: 9 | D7: 6 | E7: 四
A8: 1070907 | B8: 107 | C8: 9 | D8: 7 | E8: 五
A9: 1070908 | B9: 107 | C9: 9 | D9: 8 | E9: 六
A10: 1070909 | B10: 107 | C10: 9 | D10: 9 | E10: 日
A11: 1070910 | B11: 107 | C11: 9 | D11: 10 | E11: 一
A12: 1070911 | B12: 107 | C12: 9 | D12: 11 | E12: 二
A13: 1070912 | B13: 107 | C13: 9 | D13: 12 | E13: 三
... A1219: 1101231 | B1219: 110 | C1219: 12 | D1219: 31 | E1219: 五
